Back to Multiple platform build/check report for BioC 3.14
ABCDEFGHIJKLMN[O]PQRSTUVWXYZ

This page was generated on 2021-06-21 12:05:43 -0400 (Mon, 21 Jun 2021).

CHECK results for ontoProc on riesling1

To the developers/maintainers of the ontoProc package:
- Please allow up to 24 hours (and sometimes 48 hours) for your latest push to git@git.bioconductor.org:packages/ontoProc.git to
reflect on this report. See How and When does the builder pull? When will my changes propagate? here for more information.
- Make sure to use the following settings in order to reproduce any error or warning you see on this page.

raw results

Package 1280/1993HostnameOS / ArchINSTALLBUILDCHECKBUILD BIN
ontoProc 1.15.0  (landing page)
VJ Carey
Snapshot Date: 2021-06-20 14:50:05 -0400 (Sun, 20 Jun 2021)
URL: https://git.bioconductor.org/packages/ontoProc
Branch: master
Last Commit: ad76af3
Last Changed Date: 2021-05-19 12:31:28 -0400 (Wed, 19 May 2021)
nebbiolo2Linux (Ubuntu 20.04.2 LTS) / x86_64  OK    OK    OK  UNNEEDED, same version is already published
riesling1Windows Server 2019 Standard / x64  OK    OK    OK    OK  NO, package depends on 'Rgraphviz' which is not available
merida1macOS 10.14.6 Mojave / x86_64  OK    OK    OK    OK  UNNEEDED, same version is already published

Summary

Package: ontoProc
Version: 1.15.0
Command: D:\biocbuild\bbs-3.14-bioc\R\bin\R.exe CMD check --force-multiarch --install=check:ontoProc.install-out.txt --library=D:\biocbuild\bbs-3.14-bioc\R\library --no-vignettes --timings ontoProc_1.15.0.tar.gz
StartedAt: 2021-06-21 01:27:11 -0400 (Mon, 21 Jun 2021)
EndedAt: 2021-06-21 01:36:47 -0400 (Mon, 21 Jun 2021)
EllapsedTime: 576.7 seconds
RetCode: 0
Status:   OK  
CheckDir: ontoProc.Rcheck
Warnings: 0

Command output

##############################################################################
##############################################################################
###
### Running command:
###
###   D:\biocbuild\bbs-3.14-bioc\R\bin\R.exe CMD check --force-multiarch --install=check:ontoProc.install-out.txt --library=D:\biocbuild\bbs-3.14-bioc\R\library --no-vignettes --timings ontoProc_1.15.0.tar.gz
###
##############################################################################
##############################################################################


* using log directory 'D:/biocbuild/bbs-3.14-bioc/meat/ontoProc.Rcheck'
* using R version 4.1.0 (2021-05-18)
* using platform: x86_64-w64-mingw32 (64-bit)
* using session charset: ISO8859-1
* using option '--no-vignettes'
* checking for file 'ontoProc/DESCRIPTION' ... OK
* this is package 'ontoProc' version '1.15.0'
* package encoding: UTF-8
* checking package namespace information ... OK
* checking package dependencies ... OK
* checking if this is a source package ... OK
* checking if there is a namespace ... OK
* checking for hidden files and directories ... OK
* checking for portable file names ... OK
* checking whether package 'ontoProc' can be installed ... OK
* checking installed package size ... NOTE
  installed size is 41.7Mb
  sub-directories of 1Mb or more:
    app       1.9Mb
    data      2.0Mb
    ontoRda  37.2Mb
* checking package directory ... OK
* checking 'build' directory ... OK
* checking DESCRIPTION meta-information ... OK
* checking top-level files ... OK
* checking for left-over files ... OK
* checking index information ... OK
* checking package subdirectories ... OK
* checking R files for non-ASCII characters ... OK
* checking R files for syntax errors ... OK
* loading checks for arch 'i386'
** checking whether the package can be loaded ... OK
** checking whether the package can be loaded with stated dependencies ... OK
** checking whether the package can be unloaded cleanly ... OK
** checking whether the namespace can be loaded with stated dependencies ... OK
** checking whether the namespace can be unloaded cleanly ... OK
* loading checks for arch 'x64'
** checking whether the package can be loaded ... OK
** checking whether the package can be loaded with stated dependencies ... OK
** checking whether the package can be unloaded cleanly ... OK
** checking whether the namespace can be loaded with stated dependencies ... OK
** checking whether the namespace can be unloaded cleanly ... OK
* checking dependencies in R code ... OK
* checking S3 generic/method consistency ... OK
* checking replacement functions ... OK
* checking foreign function calls ... OK
* checking R code for possible problems ... NOTE
CLfeat : prupdate: no visible binding for global variable 'PRID'
CLfeat : prupdate: no visible binding for global variable 'SYMBOL'
bind_formal_tags: no visible global function definition for 'colData'
bind_formal_tags: no visible global function definition for 'colData<-'
common_classes: no visible global function definition for 'colData'
connect_classes: no visible global function definition for 'colData'
ctmarks: no visible binding for '<<-' assignment to 'pr'
ctmarks: no visible binding for '<<-' assignment to 'go'
ctmarks : server: no visible binding for global variable 'text'
ldfToTerm: no visible binding for global variable 'PROSYM'
subset_descendants: no visible global function definition for 'colData'
sym2CellOnto: no visible binding for global variable 'SYMBOL'
Undefined global functions or variables:
  PRID PROSYM SYMBOL colData colData<- text
Consider adding
  importFrom("graphics", "text")
to your NAMESPACE file.
* checking Rd files ... OK
* checking Rd metadata ... OK
* checking Rd cross-references ... OK
* checking for missing documentation entries ... OK
* checking for code/documentation mismatches ... OK
* checking Rd \usage sections ... OK
* checking Rd contents ... OK
* checking for unstated dependencies in examples ... OK
* checking contents of 'data' directory ... OK
* checking data for non-ASCII characters ... NOTE
  Note: found 162 marked UTF-8 strings
* checking LazyData ... OK
* checking data for ASCII and uncompressed saves ... OK
* checking files in 'vignettes' ... OK
* checking examples ...
** running examples for arch 'i386' ... OK
Examples with CPU (user + system) or elapsed time > 5s
                   user system elapsed
common_classes    13.17   1.08   15.89
CLfeats            9.79   0.21   10.42
fastGrep           8.26   0.17    8.44
getLeavesFromTerm  6.32   0.04    6.36
** running examples for arch 'x64' ... OK
Examples with CPU (user + system) or elapsed time > 5s
                   user system elapsed
common_classes    12.81   1.17   15.17
CLfeats            9.82   0.33   10.15
fastGrep           7.92   0.09    8.01
getLeavesFromTerm  6.25   0.12    6.37
* checking for unstated dependencies in 'tests' ... OK
* checking tests ...
** running tests for arch 'i386' ...
  Running 'test.R'
 OK
** running tests for arch 'x64' ...
  Running 'test.R'
 OK
* checking for unstated dependencies in vignettes ... OK
* checking package vignettes in 'inst/doc' ... OK
* checking running R code from vignettes ... SKIPPED
* checking re-building of vignette outputs ... SKIPPED
* checking PDF version of manual ... OK
* DONE

Status: 3 NOTEs
See
  'D:/biocbuild/bbs-3.14-bioc/meat/ontoProc.Rcheck/00check.log'
for details.



Installation output

ontoProc.Rcheck/00install.out

##############################################################################
##############################################################################
###
### Running command:
###
###   C:\cygwin\bin\curl.exe -O http://155.52.207.166/BBS/3.14/bioc/src/contrib/ontoProc_1.15.0.tar.gz && rm -rf ontoProc.buildbin-libdir && mkdir ontoProc.buildbin-libdir && D:\biocbuild\bbs-3.14-bioc\R\bin\R.exe CMD INSTALL --merge-multiarch --build --library=ontoProc.buildbin-libdir ontoProc_1.15.0.tar.gz && D:\biocbuild\bbs-3.14-bioc\R\bin\R.exe CMD INSTALL ontoProc_1.15.0.zip && rm ontoProc_1.15.0.tar.gz ontoProc_1.15.0.zip
###
##############################################################################
##############################################################################


  % Total    % Received % Xferd  Average Speed   Time    Time     Time  Current
                                 Dload  Upload   Total   Spent    Left  Speed

  0     0    0     0    0     0      0      0 --:--:-- --:--:-- --:--:--     0
  2 40.7M    2 1088k    0     0  3067k      0  0:00:13 --:--:--  0:00:13 3058k
 68 40.7M   68 27.9M    0     0  20.7M      0  0:00:01  0:00:01 --:--:-- 20.7M
100 40.7M  100 40.7M    0     0  17.7M      0  0:00:02  0:00:02 --:--:-- 17.7M

install for i386

Warning in untar2(tarfile, files, list, exdir, restore_times) :
  failed to copy 'ontoProc/vignettes/ontoProc.Rmd' to 'ontoProc/README.md'
* installing *source* package 'ontoProc' ...
** using staged installation
** R
** data
*** moving datasets to lazyload DB
** inst
** byte-compile and prepare package for lazy loading
** help
*** installing help indices
  converting help for package 'ontoProc'
    finding HTML links ... done
    CLfeats                                 html  
    PROSYM                                  html  
    TermSet-class                           html  
    allGOterms                              html  
    bind_formal_tags                        html  
    c-TermSet-method                        html  
    cellTypeToGO                            html  
    cleanCLOnames                           html  
    common_classes                          html  
    connect_classes                         html  
    ctmarks                                 html  
    cyclicSigset                            html  
    demoApp                                 html  
    dropStop                                html  
    fastGrep                                html  
    findCommonAncestors                     html  
    finding level-2 HTML links ... done

    getCellOnto                             html  
    getLeavesFromTerm                       html  
    humrna                                  html  
    improveNodes                            html  
    ldfToTerms                              html  
    liberalMap                              html  
    makeSelectInput                         html  
    make_graphNEL_from_ontology_plot        html  
    map2prose                               html  
    mapOneNaive                             html  
    minicorpus                              html  
    nomenCheckup                            html  
    onto_plot2                              html  
    onto_roots                              html  
    packDesc2019                            html  
    recognizedPredicates                    html  
    secLevGen                               html  
    selectFromMap                           html  
    seur3kTab                               html  
    siblings_TAG                            html  
    stopWords                               html  
    subset_descendants                      html  
    sym2CellOnto                            html  
** building package indices
** installing vignettes
** testing if installed package can be loaded from temporary location
** testing if installed package can be loaded from final location
** testing if installed package keeps a record of temporary installation path

install for x64

Warning in untar2(tarfile, files, list, exdir, restore_times) :
  failed to copy 'ontoProc/vignettes/ontoProc.Rmd' to 'ontoProc/README.md'
* installing *source* package 'ontoProc' ...
** testing if installed package can be loaded
* MD5 sums
packaged installation of 'ontoProc' as ontoProc_1.15.0.zip
* DONE (ontoProc)
* installing to library 'D:/biocbuild/bbs-3.14-bioc/R/library'
package 'ontoProc' successfully unpacked and MD5 sums checked

Tests output

ontoProc.Rcheck/tests_i386/test.Rout


R version 4.1.0 (2021-05-18) -- "Camp Pontanezen"
Copyright (C) 2021 The R Foundation for Statistical Computing
Platform: i386-w64-mingw32/i386 (32-bit)

R is free software and comes with ABSOLUTELY NO WARRANTY.
You are welcome to redistribute it under certain conditions.
Type 'license()' or 'licence()' for distribution details.

R is a collaborative project with many contributors.
Type 'contributors()' for more information and
'citation()' on how to cite R or R packages in publications.

Type 'demo()' for some demos, 'help()' for on-line help, or
'help.start()' for an HTML browser interface to help.
Type 'q()' to quit R.

> 
> library(ontoProc)
Loading required package: ontologyIndex
> library(testthat)
> 
> test_check("ontoProc")
[ FAIL 0 | WARN 5 | SKIP 0 | PASS 8 ]
> 
> 
> proc.time()
   user  system elapsed 
  14.79    0.46   15.26 

ontoProc.Rcheck/tests_x64/test.Rout


R version 4.1.0 (2021-05-18) -- "Camp Pontanezen"
Copyright (C) 2021 The R Foundation for Statistical Computing
Platform: x86_64-w64-mingw32/x64 (64-bit)

R is free software and comes with ABSOLUTELY NO WARRANTY.
You are welcome to redistribute it under certain conditions.
Type 'license()' or 'licence()' for distribution details.

R is a collaborative project with many contributors.
Type 'contributors()' for more information and
'citation()' on how to cite R or R packages in publications.

Type 'demo()' for some demos, 'help()' for on-line help, or
'help.start()' for an HTML browser interface to help.
Type 'q()' to quit R.

> 
> library(ontoProc)
Loading required package: ontologyIndex
> library(testthat)
> 
> test_check("ontoProc")
[ FAIL 0 | WARN 5 | SKIP 0 | PASS 8 ]
> 
> 
> proc.time()
   user  system elapsed 
  15.90    0.73   16.68 

Example timings

ontoProc.Rcheck/examples_i386/ontoProc-Ex.timings

nameusersystemelapsed
CLfeats 9.79 0.2110.42
PROSYM000
TermSet-class0.190.000.19
allGOterms0.470.000.47
cellTypeToGO1.140.091.23
cleanCLOnames0.390.000.39
common_classes13.17 1.0815.89
cyclicSigset000
demoApp000
dropStop000
fastGrep8.260.178.44
findCommonAncestors1.800.081.87
getCellOnto3.590.023.78
getLeavesFromTerm6.320.046.36
humrna000
ldfToTerms0.110.000.11
liberalMap2.510.032.55
makeSelectInput000
make_graphNEL_from_ontology_plot1.360.011.37
mapOneNaive1.350.021.36
minicorpus0.010.000.02
nomenCheckup0.640.000.64
onto_plot21.490.051.53
onto_roots000
packDesc2019000
recognizedPredicates000
secLevGen0.150.000.15
selectFromMap1.360.001.36
seur3kTab000
siblings_TAG0.420.000.42
stopWords0.000.010.02
sym2CellOnto4.850.024.86

ontoProc.Rcheck/examples_x64/ontoProc-Ex.timings

nameusersystemelapsed
CLfeats 9.82 0.3310.15
PROSYM000
TermSet-class0.180.000.18
allGOterms0.030.000.03
cellTypeToGO1.090.091.18
cleanCLOnames0.330.020.35
common_classes12.81 1.1715.17
cyclicSigset0.020.000.02
demoApp000
dropStop000
fastGrep7.920.098.01
findCommonAncestors1.560.141.70
getCellOnto3.410.053.46
getLeavesFromTerm6.250.126.37
humrna000
ldfToTerms0.440.040.47
liberalMap1.260.031.30
makeSelectInput000
make_graphNEL_from_ontology_plot1.310.011.33
mapOneNaive1.190.031.22
minicorpus000
nomenCheckup0.630.020.64
onto_plot21.500.051.54
onto_roots000
packDesc2019000
recognizedPredicates000
secLevGen0.170.000.17
selectFromMap1.230.061.30
seur3kTab000
siblings_TAG0.490.000.49
stopWords000
sym2CellOnto4.310.084.39