Back to Multiple platform build/check report for BioC 3.14
ABCDEFGHIJKLMN[O]PQRSTUVWXYZ

This page was generated on 2021-06-23 12:04:41 -0400 (Wed, 23 Jun 2021).

BUILD results for ontoProc on riesling1

To the developers/maintainers of the ontoProc package:
- Please allow up to 24 hours (and sometimes 48 hours) for your latest push to git@git.bioconductor.org:packages/ontoProc.git to
reflect on this report. See How and When does the builder pull? When will my changes propagate? here for more information.
- Make sure to use the following settings in order to reproduce any error or warning you see on this page.

raw results

Package 1280/1993HostnameOS / ArchINSTALLBUILDCHECKBUILD BIN
ontoProc 1.15.0  (landing page)
VJ Carey
Snapshot Date: 2021-06-22 14:50:07 -0400 (Tue, 22 Jun 2021)
URL: https://git.bioconductor.org/packages/ontoProc
Branch: master
Last Commit: ad76af3
Last Changed Date: 2021-05-19 12:31:28 -0400 (Wed, 19 May 2021)
nebbiolo2Linux (Ubuntu 20.04.2 LTS) / x86_64  OK    OK    OK  UNNEEDED, same version is already published
riesling1Windows Server 2019 Standard / x64  OK    OK    OK    OK  NO, package depends on 'Rgraphviz' which is not available
merida1macOS 10.14.6 Mojave / x86_64  OK    OK    OK    OK  UNNEEDED, same version is already published

Summary

Package: ontoProc
Version: 1.15.0
Command: chmod a+r ontoProc -R && D:\biocbuild\bbs-3.14-bioc\R\bin\R.exe CMD build --keep-empty-dirs --no-resave-data ontoProc
StartedAt: 2021-06-22 21:19:23 -0400 (Tue, 22 Jun 2021)
EndedAt: 2021-06-22 21:23:43 -0400 (Tue, 22 Jun 2021)
EllapsedTime: 260.1 seconds
RetCode: 0
Status:   OK  
PackageFile: ontoProc_1.15.0.tar.gz
PackageFileSize: 41.87 MiB

Command output

##############################################################################
##############################################################################
###
### Running command:
###
###   chmod a+r ontoProc -R && D:\biocbuild\bbs-3.14-bioc\R\bin\R.exe CMD build --keep-empty-dirs --no-resave-data ontoProc
###
##############################################################################
##############################################################################


* checking for file 'ontoProc/DESCRIPTION' ... OK
* preparing 'ontoProc':
* checking DESCRIPTION meta-information ... OK
* installing the package to build vignettes
* creating vignettes ... OK
* checking for LF line-endings in source and make files and shell scripts
* checking for empty or unneeded directories
* building 'ontoProc_1.15.0.tar.gz'