Back to Multiple platform build/check report for BioC 3.14
ABCDEFGHIJKLMN[O]PQRSTUVWXYZ

This page was generated on 2021-06-23 12:04:41 -0400 (Wed, 23 Jun 2021).

BUILD BIN results for ontoProc on riesling1

To the developers/maintainers of the ontoProc package:
- Please allow up to 24 hours (and sometimes 48 hours) for your latest push to git@git.bioconductor.org:packages/ontoProc.git to
reflect on this report. See How and When does the builder pull? When will my changes propagate? here for more information.
- Make sure to use the following settings in order to reproduce any error or warning you see on this page.

raw results

Package 1280/1993HostnameOS / ArchINSTALLBUILDCHECKBUILD BIN
ontoProc 1.15.0  (landing page)
VJ Carey
Snapshot Date: 2021-06-22 14:50:07 -0400 (Tue, 22 Jun 2021)
URL: https://git.bioconductor.org/packages/ontoProc
Branch: master
Last Commit: ad76af3
Last Changed Date: 2021-05-19 12:31:28 -0400 (Wed, 19 May 2021)
nebbiolo2Linux (Ubuntu 20.04.2 LTS) / x86_64  OK    OK    OK  UNNEEDED, same version is already published
riesling1Windows Server 2019 Standard / x64  OK    OK    OK    OK  NO, package depends on 'Rgraphviz' which is not available
merida1macOS 10.14.6 Mojave / x86_64  OK    OK    OK    OK  UNNEEDED, same version is already published

Summary

Package: ontoProc
Version: 1.15.0
Command: rm -rf ontoProc.buildbin-libdir && mkdir ontoProc.buildbin-libdir && D:\biocbuild\bbs-3.14-bioc\R\bin\R.exe CMD INSTALL --merge-multiarch --build --library=ontoProc.buildbin-libdir ontoProc_1.15.0.tar.gz
StartedAt: 2021-06-23 05:16:48 -0400 (Wed, 23 Jun 2021)
EndedAt: 2021-06-23 05:20:34 -0400 (Wed, 23 Jun 2021)
EllapsedTime: 226.0 seconds
RetCode: 0
Status:   OK  
PackageFile: ontoProc_1.15.0.zip
PackageFileSize: 39.98 MiB

Command output

##############################################################################
##############################################################################
###
### Running command:
###
###   rm -rf ontoProc.buildbin-libdir && mkdir ontoProc.buildbin-libdir && D:\biocbuild\bbs-3.14-bioc\R\bin\R.exe CMD INSTALL --merge-multiarch --build --library=ontoProc.buildbin-libdir ontoProc_1.15.0.tar.gz
###
##############################################################################
##############################################################################



install for i386

* installing *source* package 'ontoProc' ...
** using staged installation
** R
** data
*** moving datasets to lazyload DB
** inst
** byte-compile and prepare package for lazy loading
** help
*** installing help indices
  converting help for package 'ontoProc'
    finding HTML links ... done
    CLfeats                                 html  
    PROSYM                                  html  
    TermSet-class                           html  
    allGOterms                              html  
    bind_formal_tags                        html  
    c-TermSet-method                        html  
    cellTypeToGO                            html  
    cleanCLOnames                           html  
    common_classes                          html  
    connect_classes                         html  
    ctmarks                                 html  
    cyclicSigset                            html  
    demoApp                                 html  
    dropStop                                html  
    fastGrep                                html  
    findCommonAncestors                     html  
    finding level-2 HTML links ... done

    getCellOnto                             html  
    getLeavesFromTerm                       html  
    humrna                                  html  
    improveNodes                            html  
    ldfToTerms                              html  
    liberalMap                              html  
    makeSelectInput                         html  
    make_graphNEL_from_ontology_plot        html  
    map2prose                               html  
    mapOneNaive                             html  
    minicorpus                              html  
    nomenCheckup                            html  
    onto_plot2                              html  
    onto_roots                              html  
    packDesc2019                            html  
    recognizedPredicates                    html  
    secLevGen                               html  
    selectFromMap                           html  
    seur3kTab                               html  
    siblings_TAG                            html  
    stopWords                               html  
    subset_descendants                      html  
    sym2CellOnto                            html  
** building package indices
** installing vignettes
** testing if installed package can be loaded from temporary location
** testing if installed package can be loaded from final location
** testing if installed package keeps a record of temporary installation path

install for x64

* installing *source* package 'ontoProc' ...
** testing if installed package can be loaded
* MD5 sums
packaged installation of 'ontoProc' as ontoProc_1.15.0.zip
* DONE (ontoProc)