Index of /checkResults/devel/bioc-LATEST/nempi/raw-results

[ICO]NameLast modifiedSizeDescription

[DIR]Parent Directory  -  
[   ]info.dcf21-Sep-2021 01:05 260  
[DIR]merida1/21-Sep-2021 01:05 -  
[DIR]nebbiolo2/21-Sep-2021 01:04 -  
[DIR]riesling1/21-Sep-2021 01:05 -