Back to Multiple platform build/check report for BioC 3.14
ABCDEFGHIJKLM[N]OPQRSTUVWXYZ

This page was generated on 2021-07-24 12:05:33 -0400 (Sat, 24 Jul 2021).

INSTALL results for nempi on nebbiolo2

To the developers/maintainers of the nempi package:
- Please allow up to 24 hours (and sometimes 48 hours) for your latest push to git@git.bioconductor.org:packages/nempi.git to
reflect on this report. See How and When does the builder pull? When will my changes propagate? here for more information.
- Make sure to use the following settings in order to reproduce any error or warning you see on this page.

raw results

Package 1238/2008HostnameOS / ArchINSTALLBUILDCHECKBUILD BIN
nempi 1.1.1  (landing page)
Martin Pirkl
Snapshot Date: 2021-07-23 14:50:08 -0400 (Fri, 23 Jul 2021)
URL: https://git.bioconductor.org/packages/nempi
Branch: master
Last Commit: 3c84fdb
Last Changed Date: 2021-05-28 08:55:44 -0400 (Fri, 28 May 2021)
nebbiolo2Linux (Ubuntu 20.04.2 LTS) / x86_64  OK    OK    OK  UNNEEDED, same version is already published
riesling1Windows Server 2019 Standard / x64  OK    OK    OK    OK  NO, package depends on 'mnem' which is not available
merida1macOS 10.14.6 Mojave / x86_64  OK    OK    OK    OK  UNNEEDED, same version is already published

Summary

Package: nempi
Version: 1.1.1
Command: /home/biocbuild/bbs-3.14-bioc/R/bin/R CMD INSTALL nempi
StartedAt: 2021-07-23 16:35:33 -0400 (Fri, 23 Jul 2021)
EndedAt: 2021-07-23 16:35:53 -0400 (Fri, 23 Jul 2021)
EllapsedTime: 19.9 seconds
RetCode: 0
Status:   OK  

Command output

##############################################################################
##############################################################################
###
### Running command:
###
###   /home/biocbuild/bbs-3.14-bioc/R/bin/R CMD INSTALL nempi
###
##############################################################################
##############################################################################


* installing to library ‘/home/biocbuild/bbs-3.14-bioc/R/library’
* installing *source* package ‘nempi’ ...
** using staged installation
** R
** inst
** byte-compile and prepare package for lazy loading
** help
*** installing help indices
** building package indices
** installing vignettes
** testing if installed package can be loaded from temporary location
** testing if installed package can be loaded from final location
** testing if installed package keeps a record of temporary installation path
* DONE (nempi)