Back to Multiple platform build/check report for BioC 3.20:   simplified   long
ABCDEFGHIJKL[M]NOPQRSTUVWXYZ

This page was generated on 2024-05-26 11:34:29 -0400 (Sun, 26 May 2024).

HostnameOSArch (*)R versionInstalled pkgs
nebbiolo2Linux (Ubuntu 22.04.3 LTS)x86_644.4.0 RC (2024-04-16 r86468) -- "Puppy Cup" 4665
merida1macOS 12.7.4 Montereyx86_644.4.0 Patched (2024-04-24 r86482) -- "Puppy Cup" 4427
Click on any hostname to see more info about the system (e.g. compilers)      (*) as reported by 'uname -p', except on Windows and Mac OS X

All results for package mzR


To the developers/maintainers of the mzR package:
- Allow up to 24 hours (and sometimes 48 hours) for your latest push to git@git.bioconductor.org:packages/mzR.git to reflect on this report. See Troubleshooting Build Report for more information.
- Use the following Renviron settings to reproduce errors and warnings.
- If 'R CMD check' started to fail recently on the Linux builder(s) over a missing dependency, add the missing dependency to 'Suggests:' in your DESCRIPTION file. See Renviron.bioc for more information.

raw results

Package 1356/2233HostnameOS / ArchINSTALLBUILDCHECKBUILD BIN
mzR 2.39.0  (landing page)
Steffen Neumann
Snapshot Date: 2024-05-24 14:05:03 -0400 (Fri, 24 May 2024)
git_url: https://git.bioconductor.org/packages/mzR
git_branch: devel
git_last_commit: b2b8884
git_last_commit_date: 2024-04-30 10:25:16 -0400 (Tue, 30 Apr 2024)
nebbiolo2Linux (Ubuntu 22.04.3 LTS) / x86_64  OK    OK    WARNINGS  UNNEEDED, same version is already published
merida1macOS 12.7.4 Monterey / x86_64  OK    OK    WARNINGS    OK  UNNEEDED, same version is already published
kjohnson1macOS 13.6.6 Ventura / arm64see weekly results here

Results for Bioconductor software packages that depend directly on package mzR

QUICK STATSOS / ArchINSTALLBUILDCHECKBUILD BIN
nebbiolo2Linux (Ubuntu 22.04.3 LTS) / x86_64
0013
0013
00211
merida1macOS 12.7.4 Monterey / x86_64
0013
0310
0019
0010
Package 1/13HostnameOS / ArchINSTALLBUILDCHECKBUILD BIN
adductomicsR 1.21.0  (landing page)
Josie Hayes
git_last_commit: d8a5960
git_last_commit_date: 2024-04-30 11:12:06 -0400
nebbiolo2Linux (Ubuntu 22.04.3 LTS) / x86_64  OK    OK    WARNINGS  UNNEEDED, same version is already published
merida1macOS 12.7.4 Monterey / x86_64  OK    OK    WARNINGS    OK  UNNEEDED, same version is already published
kjohnson1macOS 13.6.6 Ventura / arm64see weekly results here
Package 2/13HostnameOS / ArchINSTALLBUILDCHECKBUILD BIN
CluMSID 1.21.0  (landing page)
Tobias Depke
git_last_commit: c4712fb
git_last_commit_date: 2024-04-30 11:11:45 -0400
nebbiolo2Linux (Ubuntu 22.04.3 LTS) / x86_64  OK    OK    WARNINGS  UNNEEDED, same version is already published
merida1macOS 12.7.4 Monterey / x86_64  OK    ERROR  skippedskipped
kjohnson1macOS 13.6.6 Ventura / arm64see weekly results here
Package 3/13HostnameOS / ArchINSTALLBUILDCHECKBUILD BIN
DIAlignR 2.13.0  (landing page)
Shubham Gupta
git_last_commit: 782a3f0
git_last_commit_date: 2024-04-30 11:20:26 -0400
nebbiolo2Linux (Ubuntu 22.04.3 LTS) / x86_64  OK    OK    OK  UNNEEDED, same version is already published
merida1macOS 12.7.4 Monterey / x86_64  OK    OK    OK    OK  UNNEEDED, same version is already published
kjohnson1macOS 13.6.6 Ventura / arm64see weekly results here
Package 4/13HostnameOS / ArchINSTALLBUILDCHECKBUILD BIN
MSnbase 2.31.1  (landing page)
Laurent Gatto
git_last_commit: d2b734e
git_last_commit_date: 2024-05-15 08:03:03 -0400
nebbiolo2Linux (Ubuntu 22.04.3 LTS) / x86_64  OK    OK    OK  UNNEEDED, same version is already published
merida1macOS 12.7.4 Monterey / x86_64  OK    OK    OK    OK  UNNEEDED, same version is already published
kjohnson1macOS 13.6.6 Ventura / arm64see weekly results here
Package 5/13HostnameOS / ArchINSTALLBUILDCHECKBUILD BIN
MSnID 1.39.0  (landing page)
Vlad Petyuk
git_last_commit: 2286916
git_last_commit_date: 2024-04-30 10:38:55 -0400
nebbiolo2Linux (Ubuntu 22.04.3 LTS) / x86_64  OK    OK    OK  UNNEEDED, same version is already published
merida1macOS 12.7.4 Monterey / x86_64  OK    OK    OK    OK  UNNEEDED, same version is already published
kjohnson1macOS 13.6.6 Ventura / arm64see weekly results here
Package 6/13HostnameOS / ArchINSTALLBUILDCHECKBUILD BIN
msPurity 1.31.1  (landing page)
Thomas N. Lawson
git_last_commit: 00be9c3
git_last_commit_date: 2024-05-10 06:41:37 -0400
nebbiolo2Linux (Ubuntu 22.04.3 LTS) / x86_64  OK    OK    OK  UNNEEDED, same version is already published
merida1macOS 12.7.4 Monterey / x86_64  OK    OK    OK    OK  UNNEEDED, same version is already published
kjohnson1macOS 13.6.6 Ventura / arm64see weekly results here
Package 7/13HostnameOS / ArchINSTALLBUILDCHECKBUILD BIN
peakPantheR 1.19.0  (landing page)
Arnaud Wolfer
git_last_commit: aefa25b
git_last_commit_date: 2024-04-30 11:17:40 -0400
nebbiolo2Linux (Ubuntu 22.04.3 LTS) / x86_64  OK    OK    OK  UNNEEDED, same version is already published
merida1macOS 12.7.4 Monterey / x86_64  OK    ERROR  skippedskipped
kjohnson1macOS 13.6.6 Ventura / arm64see weekly results here
Package 8/13HostnameOS / ArchINSTALLBUILDCHECKBUILD BIN
RMassBank 3.15.1  (landing page)
RMassBank at Eawag
git_last_commit: 8af9a1d
git_last_commit_date: 2024-05-02 11:25:23 -0400
nebbiolo2Linux (Ubuntu 22.04.3 LTS) / x86_64  OK    OK    OK  UNNEEDED, same version is already published
merida1macOS 12.7.4 Monterey / x86_64  OK    OK    OK    OK  UNNEEDED, same version is already published
kjohnson1macOS 13.6.6 Ventura / arm64see weekly results here
Package 9/13HostnameOS / ArchINSTALLBUILDCHECKBUILD BIN
SIMAT 1.37.0  (landing page)
M. R. Nezami Ranjbar
git_last_commit: f034495
git_last_commit_date: 2024-04-30 10:42:18 -0400
nebbiolo2Linux (Ubuntu 22.04.3 LTS) / x86_64  OK    OK    OK  UNNEEDED, same version is already published
merida1macOS 12.7.4 Monterey / x86_64  OK    OK    OK    OK  UNNEEDED, same version is already published
kjohnson1macOS 13.6.6 Ventura / arm64see weekly results here
Package 10/13HostnameOS / ArchINSTALLBUILDCHECKBUILD BIN
TargetDecoy 1.11.0  (landing page)
Elke Debrie
git_last_commit: 07518ff
git_last_commit_date: 2024-04-30 11:38:46 -0400
nebbiolo2Linux (Ubuntu 22.04.3 LTS) / x86_64  OK    OK    OK  UNNEEDED, same version is already published
merida1macOS 12.7.4 Monterey / x86_64  OK    OK    OK    OK  UNNEEDED, same version is already published
kjohnson1macOS 13.6.6 Ventura / arm64see weekly results here
Package 11/13HostnameOS / ArchINSTALLBUILDCHECKBUILD BIN
topdownr 1.27.0  (landing page)
Sebastian Gibb
git_last_commit: f5a82bf
git_last_commit_date: 2024-04-30 11:01:53 -0400
nebbiolo2Linux (Ubuntu 22.04.3 LTS) / x86_64  OK    OK    OK  UNNEEDED, same version is already published
merida1macOS 12.7.4 Monterey / x86_64  OK    OK    OK    OK  UNNEEDED, same version is already published
kjohnson1macOS 13.6.6 Ventura / arm64see weekly results here
Package 12/13HostnameOS / ArchINSTALLBUILDCHECKBUILD BIN
xcms 4.3.0  (landing page)
Steffen Neumann
git_last_commit: 56cebbd
git_last_commit_date: 2024-04-30 10:13:53 -0400
nebbiolo2Linux (Ubuntu 22.04.3 LTS) / x86_64  OK    OK    OK  UNNEEDED, same version is already published
merida1macOS 12.7.4 Monterey / x86_64  OK    ERROR  skippedskipped
kjohnson1macOS 13.6.6 Ventura / arm64see weekly results here
Package 13/13HostnameOS / ArchINSTALLBUILDCHECKBUILD BIN
yamss 1.31.0  (landing page)
Leslie Myint
git_last_commit: 7072a74
git_last_commit_date: 2024-04-30 10:54:56 -0400
nebbiolo2Linux (Ubuntu 22.04.3 LTS) / x86_64  OK    OK    OK  UNNEEDED, same version is already published
merida1macOS 12.7.4 Monterey / x86_64  OK    OK    OK    OK  UNNEEDED, same version is already published
kjohnson1macOS 13.6.6 Ventura / arm64see weekly results here