Back to Multiple platform build/check report for BioC 3.14
ABCDEFGHIJKL[M]NOPQRSTUVWXYZ

This page was generated on 2021-07-24 12:06:03 -0400 (Sat, 24 Jul 2021).

BUILD results for monocle on riesling1

To the developers/maintainers of the monocle package:
- Please allow up to 24 hours (and sometimes 48 hours) for your latest push to git@git.bioconductor.org:packages/monocle.git to
reflect on this report. See How and When does the builder pull? When will my changes propagate? here for more information.
- Make sure to use the following settings in order to reproduce any error or warning you see on this page.

raw results

Package 1156/2008HostnameOS / ArchINSTALLBUILDCHECKBUILD BIN
monocle 2.21.0  (landing page)
Cole Trapnell
Snapshot Date: 2021-07-23 14:50:08 -0400 (Fri, 23 Jul 2021)
URL: https://git.bioconductor.org/packages/monocle
Branch: master
Last Commit: 7da9efc
Last Changed Date: 2021-05-19 12:05:11 -0400 (Wed, 19 May 2021)
nebbiolo2Linux (Ubuntu 20.04.2 LTS) / x86_64  ERROR    ERROR  skipped
riesling1Windows Server 2019 Standard / x64  ERROR    ERROR  skippedskipped
merida1macOS 10.14.6 Mojave / x86_64  ERROR    ERROR  skippedskipped

Summary

Package: monocle
Version: 2.21.0
Command: chmod a+r monocle -R && D:\biocbuild\bbs-3.14-bioc\R\bin\R.exe CMD build --keep-empty-dirs --no-resave-data monocle
StartedAt: 2021-07-23 21:07:28 -0400 (Fri, 23 Jul 2021)
EndedAt: 2021-07-23 21:11:25 -0400 (Fri, 23 Jul 2021)
EllapsedTime: 237.3 seconds
RetCode: 1
Status:   ERROR  
PackageFile: monocle_2.21.0.tar.gz
PackageFileSize: 9.181 MiB

Command output

##############################################################################
##############################################################################
###
### Running command:
###
###   chmod a+r monocle -R && D:\biocbuild\bbs-3.14-bioc\R\bin\R.exe CMD build --keep-empty-dirs --no-resave-data monocle
###
##############################################################################
##############################################################################


* checking for file 'monocle/DESCRIPTION' ... OK
* preparing 'monocle':
* checking DESCRIPTION meta-information ... OK
* cleaning src
* installing the package to build vignettes
      -----------------------------------
* installing *source* package 'monocle' ...
** using staged installation
** libs
"C:/rtools40/mingw64/bin/"g++ -std=gnu++11  -I"D:/biocbuild/bbs-3.14-bioc/R/include" -DNDEBUG  -I'D:/biocbuild/bbs-3.14-bioc/R/library/Rcpp/include'   -I"C:/extsoft/include"     -O2 -Wall  -mfpmath=sse -msse2 -mstackrealign  -c RcppExports.cpp -o RcppExports.o
"C:/rtools40/mingw64/bin/"g++ -std=gnu++11  -I"D:/biocbuild/bbs-3.14-bioc/R/include" -DNDEBUG  -I'D:/biocbuild/bbs-3.14-bioc/R/library/Rcpp/include'   -I"C:/extsoft/include"     -O2 -Wall  -mfpmath=sse -msse2 -mstackrealign  -c clustering.cpp -o clustering.o
C:/rtools40/mingw64/bin/g++ -std=gnu++11 -shared -s -static-libgcc -o monocle.dll tmp.def RcppExports.o clustering.o -LC:/extsoft/lib/x64 -LC:/extsoft/lib -LD:/biocbuild/bbs-3.14-bioc/R/bin/x64 -lR
installing to D:/biocbuild/bbs-3.14-bioc/tmpdir/RtmpiWN8ql/Rinst244436296034/00LOCK-monocle/00new/monocle/libs/x64
** R
** data
*** moving datasets to lazyload DB
** inst
** byte-compile and prepare package for lazy loading
Error: object 'clusterApply' is not exported by 'namespace:BiocGenerics'
Execution halted
ERROR: lazy loading failed for package 'monocle'
* removing 'D:/biocbuild/bbs-3.14-bioc/tmpdir/RtmpiWN8ql/Rinst244436296034/monocle'
      -----------------------------------
ERROR: package installation failed