Back to Multiple platform build/check report for BioC 3.14
ABCDEFGHIJKL[M]NOPQRSTUVWXYZ

This page was generated on 2021-06-21 12:05:41 -0400 (Mon, 21 Jun 2021).

BUILD results for mnem on riesling1

To the developers/maintainers of the mnem package:
- Please allow up to 24 hours (and sometimes 48 hours) for your latest push to git@git.bioconductor.org:packages/mnem.git to
reflect on this report. See How and When does the builder pull? When will my changes propagate? here for more information.
- Make sure to use the following settings in order to reproduce any error or warning you see on this page.

raw results

Package 1138/1993HostnameOS / ArchINSTALLBUILDCHECKBUILD BIN
mnem 1.9.0  (landing page)
Martin Pirkl
Snapshot Date: 2021-06-20 14:50:05 -0400 (Sun, 20 Jun 2021)
URL: https://git.bioconductor.org/packages/mnem
Branch: master
Last Commit: cbf85e5
Last Changed Date: 2021-05-21 03:59:15 -0400 (Fri, 21 May 2021)
nebbiolo2Linux (Ubuntu 20.04.2 LTS) / x86_64  OK    OK    OK  UNNEEDED, same version is already published
riesling1Windows Server 2019 Standard / x64  OK    OK    OK    OK  NO, package depends on 'Rgraphviz' which is not available
merida1macOS 10.14.6 Mojave / x86_64  OK    OK    OK    OK  UNNEEDED, same version is already published

Summary

Package: mnem
Version: 1.9.0
Command: chmod a+r mnem -R && D:\biocbuild\bbs-3.14-bioc\R\bin\R.exe CMD build --keep-empty-dirs --no-resave-data mnem
StartedAt: 2021-06-20 21:02:25 -0400 (Sun, 20 Jun 2021)
EndedAt: 2021-06-20 21:06:07 -0400 (Sun, 20 Jun 2021)
EllapsedTime: 222.4 seconds
RetCode: 0
Status:   OK  
PackageFile: mnem_1.9.0.tar.gz
PackageFileSize: 2.609 MiB

Command output

##############################################################################
##############################################################################
###
### Running command:
###
###   chmod a+r mnem -R && D:\biocbuild\bbs-3.14-bioc\R\bin\R.exe CMD build --keep-empty-dirs --no-resave-data mnem
###
##############################################################################
##############################################################################


* checking for file 'mnem/DESCRIPTION' ... OK
* preparing 'mnem':
* checking DESCRIPTION meta-information ... OK
* cleaning src
* installing the package to build vignettes
* creating vignettes ... OK
* cleaning src
* checking for LF line-endings in source and make files and shell scripts
* checking for empty or unneeded directories
* building 'mnem_1.9.0.tar.gz'