Index of /checkResults/devel/bioc-LATEST/mixOmics/raw-results/nebbiolo2

[ICO]NameLast modifiedSizeDescription

[DIR]Parent Directory  -  
[   ]install-summary.dcf23-Jul-2024 01:44 261  
[TXT]install-out.txt23-Jul-2024 01:44 963  
[   ]checksrc-summary.dcf23-Jul-2024 01:44 418  
[TXT]checksrc-out.txt23-Jul-2024 01:44 3.8K 
[   ]buildsrc-summary.dcf23-Jul-2024 01:44 427  
[TXT]buildsrc-out.txt23-Jul-2024 01:44 946