Index of /checkResults/devel/bioc-LATEST/mixOmics/raw-results/nebbiolo2

[ICO]NameLast modifiedSizeDescription

[DIR]Parent Directory  -  
[TXT]buildsrc-out.txt18-Jun-2024 01:23 946  
[   ]buildsrc-summary.dcf18-Jun-2024 01:23 427  
[TXT]checksrc-out.txt18-Jun-2024 01:23 3.8K 
[   ]checksrc-summary.dcf18-Jun-2024 01:23 418  
[TXT]install-out.txt18-Jun-2024 01:23 963  
[   ]install-summary.dcf18-Jun-2024 01:23 261