Index of /checkResults/devel/bioc-LATEST/mixOmics/raw-results/merida1

[ICO]NameLast modifiedSizeDescription

[DIR]Parent Directory  -  
[   ]install-summary.dcf12-Jun-2024 04:42 271  
[TXT]install-out.txt12-Jun-2024 04:42 1.0K 
[   ]checksrc-summary.dcf12-Jun-2024 04:42 448  
[TXT]checksrc-out.txt12-Jun-2024 04:42 4.2K 
[   ]buildsrc-summary.dcf12-Jun-2024 04:42 432  
[TXT]buildsrc-out.txt12-Jun-2024 04:42 932  
[   ]buildbin-summary.dcf12-Jun-2024 04:42 536  
[TXT]buildbin-out.txt12-Jun-2024 04:42 1.2K