Index of /checkResults/devel/bioc-LATEST/mixOmics/raw-results/lconway

[ICO]NameLast modifiedSizeDescription

[DIR]Parent Directory  -  
[TXT]buildbin-out.txt12-Jul-2024 01:01 1.2K 
[   ]buildbin-summary.dcf12-Jul-2024 01:01 536  
[TXT]buildsrc-out.txt12-Jul-2024 01:01 932  
[   ]buildsrc-summary.dcf12-Jul-2024 01:01 431  
[TXT]checksrc-out.txt12-Jul-2024 01:01 3.9K 
[   ]checksrc-summary.dcf12-Jul-2024 01:01 448  
[TXT]install-out.txt12-Jul-2024 01:01 1.0K 
[   ]install-summary.dcf12-Jul-2024 01:01 271