Back to Multiple platform build/check report for BioC 3.14
ABCDEFGHIJKL[M]NOPQRSTUVWXYZ

This page was generated on 2021-06-21 12:05:40 -0400 (Mon, 21 Jun 2021).

BUILD BIN results for mirIntegrator on riesling1

To the developers/maintainers of the mirIntegrator package:
- Please allow up to 24 hours (and sometimes 48 hours) for your latest push to git@git.bioconductor.org:packages/mirIntegrator.git to
reflect on this report. See How and When does the builder pull? When will my changes propagate? here for more information.
- Make sure to use the following settings in order to reproduce any error or warning you see on this page.

raw results

Package 1118/1993HostnameOS / ArchINSTALLBUILDCHECKBUILD BIN
mirIntegrator 1.23.0  (landing page)
Diana Diaz
Snapshot Date: 2021-06-20 14:50:05 -0400 (Sun, 20 Jun 2021)
URL: https://git.bioconductor.org/packages/mirIntegrator
Branch: master
Last Commit: 5cfa672
Last Changed Date: 2021-05-19 12:14:08 -0400 (Wed, 19 May 2021)
nebbiolo2Linux (Ubuntu 20.04.2 LTS) / x86_64  OK    OK    OK  UNNEEDED, same version is already published
riesling1Windows Server 2019 Standard / x64  OK    OK    OK    OK  NO, package depends on 'ROntoTools' which is not available
merida1macOS 10.14.6 Mojave / x86_64  OK    OK    OK    OK  UNNEEDED, same version is already published

Summary

Package: mirIntegrator
Version: 1.23.0
Command: rm -rf mirIntegrator.buildbin-libdir && mkdir mirIntegrator.buildbin-libdir && D:\biocbuild\bbs-3.14-bioc\R\bin\R.exe CMD INSTALL --merge-multiarch --build --library=mirIntegrator.buildbin-libdir mirIntegrator_1.23.0.tar.gz
StartedAt: 2021-06-21 05:00:38 -0400 (Mon, 21 Jun 2021)
EndedAt: 2021-06-21 05:04:32 -0400 (Mon, 21 Jun 2021)
EllapsedTime: 233.4 seconds
RetCode: 0
Status:   OK  
PackageFile: mirIntegrator_1.23.0.zip
PackageFileSize: 1.766 MiB

Command output

##############################################################################
##############################################################################
###
### Running command:
###
###   rm -rf mirIntegrator.buildbin-libdir && mkdir mirIntegrator.buildbin-libdir && D:\biocbuild\bbs-3.14-bioc\R\bin\R.exe CMD INSTALL --merge-multiarch --build --library=mirIntegrator.buildbin-libdir mirIntegrator_1.23.0.tar.gz
###
##############################################################################
##############################################################################



install for i386

* installing *source* package 'mirIntegrator' ...
** using staged installation
** R
** data
** inst
** byte-compile and prepare package for lazy loading
** help
*** installing help indices
  converting help for package 'mirIntegrator'
    finding HTML links ... done
    GSE43592_mRNA                           html  
    GSE43592_miRNA                          html  
    augmented_pathways                      html  
    integrate_mir                           html  
    kegg_pathways                           html  
    mirTarBase                              html  
    names_pathways                          html  
    pathways2pdf                            html  
    plot_augmented_pathway                  html  
    plot_change                             html  
    smallest_pathway                        html  
** building package indices
** installing vignettes
** testing if installed package can be loaded from temporary location
** testing if installed package can be loaded from final location
** testing if installed package keeps a record of temporary installation path

install for x64

* installing *source* package 'mirIntegrator' ...
** testing if installed package can be loaded
* MD5 sums
packaged installation of 'mirIntegrator' as mirIntegrator_1.23.0.zip
* DONE (mirIntegrator)