Index of /checkResults/devel/bioc-LATEST/microSTASIS/raw-results/nebbiolo2

[ICO]NameLast modifiedSizeDescription

[DIR]Parent Directory  -  
[TXT]buildsrc-out.txt16-Jul-2024 00:39 908  
[   ]buildsrc-summary.dcf16-Jul-2024 00:39 433  
[TXT]checksrc-out.txt16-Jul-2024 00:39 4.0K 
[   ]checksrc-summary.dcf16-Jul-2024 00:39 428  
[TXT]install-out.txt16-Jul-2024 00:39 1.1K 
[   ]install-summary.dcf16-Jul-2024 00:39 265