Index of /checkResults/devel/bioc-LATEST/microSTASIS/raw-results/merida1

[ICO]NameLast modifiedSizeDescription

[DIR]Parent Directory  -  
[TXT]buildbin-out.txt12-Jun-2024 04:42 1.3K 
[   ]buildbin-summary.dcf12-Jun-2024 04:42 549  
[TXT]buildsrc-out.txt12-Jun-2024 04:42 894  
[   ]buildsrc-summary.dcf12-Jun-2024 04:42 438  
[TXT]checksrc-out.txt12-Jun-2024 04:42 4.0K 
[   ]checksrc-summary.dcf12-Jun-2024 04:42 458  
[TXT]install-out.txt12-Jun-2024 04:42 1.1K 
[   ]install-summary.dcf12-Jun-2024 04:42 275