Index of /checkResults/devel/bioc-LATEST/microSTASIS/raw-results/kjohnson3

[ICO]NameLast modifiedSizeDescription

[DIR]Parent Directory  -  
[TXT]buildbin-out.txt19-Jul-2024 00:42 1.3K 
[   ]buildbin-summary.dcf19-Jul-2024 00:42 550  
[TXT]buildsrc-out.txt19-Jul-2024 00:42 894  
[   ]buildsrc-summary.dcf19-Jul-2024 00:42 437  
[TXT]checksrc-out.txt19-Jul-2024 00:42 4.0K 
[   ]checksrc-summary.dcf19-Jul-2024 00:42 458  
[TXT]install-out.txt19-Jul-2024 00:42 1.1K 
[   ]install-summary.dcf19-Jul-2024 00:42 275