Index of /checkResults/devel/bioc-LATEST/microSTASIS/raw-results/kjohnson1

[ICO]NameLast modifiedSizeDescription

[DIR]Parent Directory  -  
[TXT]buildbin-out.txt12-Jun-2024 04:43 1.3K 
[   ]buildbin-summary.dcf12-Jun-2024 04:43 550  
[TXT]buildsrc-out.txt12-Jun-2024 04:43 894  
[   ]buildsrc-summary.dcf12-Jun-2024 04:43 438  
[TXT]checksrc-out.txt12-Jun-2024 04:43 4.0K 
[   ]checksrc-summary.dcf12-Jun-2024 04:43 458  
[TXT]install-out.txt12-Jun-2024 04:43 1.1K 
[   ]install-summary.dcf12-Jun-2024 04:43 275