Back to Multiple platform build/check report for BioC 3.14
ABCDEFGHIJKL[M]NOPQRSTUVWXYZ

This page was generated on 2021-07-30 12:05:05 -0400 (Fri, 30 Jul 2021).

INSTALL results for metaMS on riesling1

To the developers/maintainers of the metaMS package:
- Please allow up to 24 hours (and sometimes 48 hours) for your latest push to git@git.bioconductor.org:packages/metaMS.git to
reflect on this report. See How and When does the builder pull? When will my changes propagate? here for more information.
- Make sure to use the following settings in order to reproduce any error or warning you see on this page.

raw results

Package 1072/2015HostnameOS / ArchINSTALLBUILDCHECKBUILD BIN
metaMS 1.29.0  (landing page)
Yann Guitton
Snapshot Date: 2021-07-29 14:50:07 -0400 (Thu, 29 Jul 2021)
URL: https://git.bioconductor.org/packages/metaMS
Branch: master
Last Commit: 5a99fe0
Last Changed Date: 2021-05-19 12:04:21 -0400 (Wed, 19 May 2021)
nebbiolo2Linux (Ubuntu 20.04.2 LTS) / x86_64  OK    OK    WARNINGS  UNNEEDED, same version is already published
riesling1Windows Server 2019 Standard / x64  OK    OK    WARNINGS    OK  NO, package depends on 'CAMERA' which is not available
merida1macOS 10.14.6 Mojave / x86_64  OK    OK    WARNINGS    OK  UNNEEDED, same version is already published

Summary

Package: metaMS
Version: 1.29.0
Command: C:\cygwin\bin\curl.exe -O http://155.52.207.166/BBS/3.14/bioc/src/contrib/metaMS_1.29.0.tar.gz && rm -rf metaMS.buildbin-libdir && mkdir metaMS.buildbin-libdir && D:\biocbuild\bbs-3.14-bioc\R\bin\R.exe CMD INSTALL --merge-multiarch --build --library=metaMS.buildbin-libdir metaMS_1.29.0.tar.gz && D:\biocbuild\bbs-3.14-bioc\R\bin\R.exe CMD INSTALL metaMS_1.29.0.zip && rm metaMS_1.29.0.tar.gz metaMS_1.29.0.zip
StartedAt: 2021-07-29 17:52:58 -0400 (Thu, 29 Jul 2021)
EndedAt: 2021-07-29 17:55:58 -0400 (Thu, 29 Jul 2021)
EllapsedTime: 180.3 seconds
RetCode: 0
Status:   OK  

Command output

##############################################################################
##############################################################################
###
### Running command:
###
###   C:\cygwin\bin\curl.exe -O http://155.52.207.166/BBS/3.14/bioc/src/contrib/metaMS_1.29.0.tar.gz && rm -rf metaMS.buildbin-libdir && mkdir metaMS.buildbin-libdir && D:\biocbuild\bbs-3.14-bioc\R\bin\R.exe CMD INSTALL --merge-multiarch --build --library=metaMS.buildbin-libdir metaMS_1.29.0.tar.gz && D:\biocbuild\bbs-3.14-bioc\R\bin\R.exe CMD INSTALL metaMS_1.29.0.zip && rm metaMS_1.29.0.tar.gz metaMS_1.29.0.zip
###
##############################################################################
##############################################################################


  % Total    % Received % Xferd  Average Speed   Time    Time     Time  Current
                                 Dload  Upload   Total   Spent    Left  Speed

  0     0    0     0    0     0      0      0 --:--:-- --:--:-- --:--:--     0
 32 3426k   32 1125k    0     0  2594k      0  0:00:01 --:--:--  0:00:01 2588k
100 3426k  100 3426k    0     0  3521k      0 --:--:-- --:--:-- --:--:-- 3518k

install for i386

* installing *source* package 'metaMS' ...
** using staged installation
** R
** data
** inst
** byte-compile and prepare package for lazy loading
Warning message:
multiple methods tables found for 'bin' 
** help
*** installing help indices
  converting help for package 'metaMS'
    finding HTML links ... done
    AnnotateTable                           html  
    FEMsettings                             html  
    finding level-2 HTML links ... done

    GCresults                               html  
    LCDBtest                                html  
    LCresults                               html  
    addRI                                   html  
    alignmentLC                             html  
    annotations2tab                         html  
    constructExpPseudoSpectra               html  
    createSTDdbGC                           html  
    createSTDdbLC                           html  
    errf                                    html  
    exptable                                html  
    getAnnotationLC                         html  
    getAnnotationMat                        html  
    getFeatureInfo                          html  
    getPeakTable                            html  
    match2ExtDB                             html  
    matchExpSpec                            html  
    matchSamples2DB                         html  
    matchSamples2Samples                    html  
    metaMS-package                          html  
    metaMSsettings-class                    html  
    metaSetting-methods                     html  
REDIRECT:topic	 metaSetting<- -> metaSetting-methods.html [ FAIL ]
REDIRECT:topic	 metaSetting<-,metaMSsettings-method -> metaSetting-methods.html [ FAIL ]
    msp                                     html  
    peakDetection                           html  
    plotPseudoSpectrum                      html  
    printString                             html  
    processStandards                        html  
    readStdInfo                             html  
    removeDoubleMasses                      html  
    runCAMERA                               html  
    runGC                                   html  
    runLC                                   html  
    threeStdsDB                             html  
    treat.DB                                html  
** building package indices
** installing vignettes
** testing if installed package can be loaded from temporary location
Warning: multiple methods tables found for 'bin'
** testing if installed package can be loaded from final location
Warning: multiple methods tables found for 'bin'
** testing if installed package keeps a record of temporary installation path

install for x64

* installing *source* package 'metaMS' ...
** testing if installed package can be loaded
Warning: multiple methods tables found for 'bin'
* MD5 sums
packaged installation of 'metaMS' as metaMS_1.29.0.zip
* DONE (metaMS)
* installing to library 'D:/biocbuild/bbs-3.14-bioc/R/library'
package 'metaMS' successfully unpacked and MD5 sums checked