Index of /checkResults/devel/bioc-LATEST/metaMS/raw-results/riesling1

[ICO]NameLast modifiedSizeDescription

[DIR]Parent Directory  -  
[   ]buildbin-summary.dcf22-Jan-2022 01:07 509  
[TXT]buildbin-out.txt22-Jan-2022 01:07 3.0K 
[   ]checksrc-summary.dcf22-Jan-2022 01:07 443  
[TXT]checksrc-out.txt22-Jan-2022 01:07 3.1K 
[   ]buildsrc-summary.dcf22-Jan-2022 01:07 448  
[TXT]buildsrc-out.txt22-Jan-2022 01:07 894  
[   ]install-summary.dcf22-Jan-2022 01:07 266  
[TXT]install-out.txt22-Jan-2022 01:07 3.1K