Index of /checkResults/devel/bioc-LATEST/metaMS/raw-results/riesling1

[ICO]NameLast modifiedSizeDescription

[DIR]Parent Directory  -  
[TXT]buildbin-out.txt26-Oct-2021 03:06 3.2K 
[   ]buildbin-summary.dcf26-Oct-2021 03:06 528  
[TXT]buildsrc-out.txt26-Oct-2021 03:06 894  
[   ]buildsrc-summary.dcf26-Oct-2021 03:06 449  
[TXT]checksrc-out.txt26-Oct-2021 03:06 3.7K 
[   ]checksrc-summary.dcf26-Oct-2021 03:06 446  
[TXT]install-out.txt26-Oct-2021 03:06 3.9K 
[   ]install-summary.dcf26-Oct-2021 03:06 620