Index of /checkResults/devel/bioc-LATEST/metaMS/raw-results/nebbiolo2

[ICO]NameLast modifiedSizeDescription

[DIR]Parent Directory  -  
[TXT]buildsrc-out.txt22-Oct-2021 01:04 865  
[   ]buildsrc-summary.dcf22-Oct-2021 01:04 414  
[TXT]checksrc-out.txt22-Oct-2021 01:04 3.1K 
[   ]checksrc-summary.dcf22-Oct-2021 01:04 420  
[TXT]install-out.txt22-Oct-2021 01:04 952  
[   ]install-summary.dcf22-Oct-2021 01:04 257