Index of /checkResults/devel/bioc-LATEST/metaMS/raw-results/merida1

[ICO]NameLast modifiedSizeDescription

[DIR]Parent Directory  -  
[TXT]buildbin-out.txt26-Oct-2021 03:07 1.1K 
[   ]buildbin-summary.dcf26-Oct-2021 03:07 524  
[TXT]buildsrc-out.txt26-Oct-2021 03:07 875  
[   ]buildsrc-summary.dcf26-Oct-2021 03:07 424  
[TXT]checksrc-out.txt26-Oct-2021 03:07 3.2K 
[   ]checksrc-summary.dcf26-Oct-2021 03:07 440  
[TXT]install-out.txt26-Oct-2021 03:07 1.0K 
[   ]install-summary.dcf26-Oct-2021 03:07 267