Back to Multiple platform build/check report for BioC 3.14
ABCDEFGHIJKL[M]NOPQRSTUVWXYZ

This page was generated on 2021-07-30 12:04:40 -0400 (Fri, 30 Jul 2021).

INSTALL results for metaMS on nebbiolo2

To the developers/maintainers of the metaMS package:
- Please allow up to 24 hours (and sometimes 48 hours) for your latest push to git@git.bioconductor.org:packages/metaMS.git to
reflect on this report. See How and When does the builder pull? When will my changes propagate? here for more information.
- Make sure to use the following settings in order to reproduce any error or warning you see on this page.

raw results

Package 1072/2015HostnameOS / ArchINSTALLBUILDCHECKBUILD BIN
metaMS 1.29.0  (landing page)
Yann Guitton
Snapshot Date: 2021-07-29 14:50:07 -0400 (Thu, 29 Jul 2021)
URL: https://git.bioconductor.org/packages/metaMS
Branch: master
Last Commit: 5a99fe0
Last Changed Date: 2021-05-19 12:04:21 -0400 (Wed, 19 May 2021)
nebbiolo2Linux (Ubuntu 20.04.2 LTS) / x86_64  OK    OK    WARNINGS  UNNEEDED, same version is already published
riesling1Windows Server 2019 Standard / x64  OK    OK    WARNINGS    OK  NO, package depends on 'CAMERA' which is not available
merida1macOS 10.14.6 Mojave / x86_64  OK    OK    WARNINGS    OK  UNNEEDED, same version is already published

Summary

Package: metaMS
Version: 1.29.0
Command: /home/biocbuild/bbs-3.14-bioc/R/bin/R CMD INSTALL metaMS
StartedAt: 2021-07-29 16:28:47 -0400 (Thu, 29 Jul 2021)
EndedAt: 2021-07-29 16:29:23 -0400 (Thu, 29 Jul 2021)
EllapsedTime: 36.0 seconds
RetCode: 0
Status:   OK  

Command output

##############################################################################
##############################################################################
###
### Running command:
###
###   /home/biocbuild/bbs-3.14-bioc/R/bin/R CMD INSTALL metaMS
###
##############################################################################
##############################################################################


* installing to library ‘/home/biocbuild/bbs-3.14-bioc/R/library’
* installing *source* package ‘metaMS’ ...
** using staged installation
** R
** data
** inst
** byte-compile and prepare package for lazy loading
Warning message:
multiple methods tables found for ‘bin’ 
** help
*** installing help indices
** building package indices
** installing vignettes
** testing if installed package can be loaded from temporary location
Warning: multiple methods tables found for ‘bin’
** testing if installed package can be loaded from final location
Warning: multiple methods tables found for ‘bin’
** testing if installed package keeps a record of temporary installation path
* DONE (metaMS)