Back to Multiple platform build/check report for BioC 3.14
ABCDEFGHIJKL[M]NOPQRSTUVWXYZ

This page was generated on 2021-08-03 12:05:47 -0400 (Tue, 03 Aug 2021).

BUILD results for metaMS on nebbiolo2

To the developers/maintainers of the metaMS package:
- Please allow up to 24 hours (and sometimes 48 hours) for your latest push to git@git.bioconductor.org:packages/metaMS.git to
reflect on this report. See How and When does the builder pull? When will my changes propagate? here for more information.
- Make sure to use the following settings in order to reproduce any error or warning you see on this page.

raw results

Package 1072/2015HostnameOS / ArchINSTALLBUILDCHECKBUILD BIN
metaMS 1.29.0  (landing page)
Yann Guitton
Snapshot Date: 2021-08-02 14:50:09 -0400 (Mon, 02 Aug 2021)
URL: https://git.bioconductor.org/packages/metaMS
Branch: master
Last Commit: 5a99fe0
Last Changed Date: 2021-05-19 12:04:21 -0400 (Wed, 19 May 2021)
nebbiolo2Linux (Ubuntu 20.04.2 LTS) / x86_64  OK    OK    WARNINGS  UNNEEDED, same version is already published
riesling1Windows Server 2019 Standard / x64  OK    OK    WARNINGS    OK  NO, package depends on 'CAMERA' which is not available
merida1macOS 10.14.6 Mojave / x86_64  OK    OK    WARNINGS    OK  UNNEEDED, same version is already published

Summary

Package: metaMS
Version: 1.29.0
Command: /home/biocbuild/bbs-3.14-bioc/R/bin/R CMD build --keep-empty-dirs --no-resave-data metaMS
StartedAt: 2021-08-02 17:33:31 -0400 (Mon, 02 Aug 2021)
EndedAt: 2021-08-02 17:34:17 -0400 (Mon, 02 Aug 2021)
EllapsedTime: 46.3 seconds
RetCode: 0
Status:   OK  
PackageFile: metaMS_1.29.0.tar.gz
PackageFileSize: 3.643 MiB

Command output

##############################################################################
##############################################################################
###
### Running command:
###
###   /home/biocbuild/bbs-3.14-bioc/R/bin/R CMD build --keep-empty-dirs --no-resave-data metaMS
###
##############################################################################
##############################################################################


* checking for file ‘metaMS/DESCRIPTION’ ... OK
* preparing ‘metaMS’:
* checking DESCRIPTION meta-information ... OK
* installing the package to build vignettes
* creating vignettes ... OK
* checking for LF line-endings in source and make files and shell scripts
* checking for empty or unneeded directories
* looking to see if a ‘data/datalist’ file should be added
* building ‘metaMS_1.29.0.tar.gz’