Back to Multiple platform build/check report for BioC 3.15
ABCDEFGHIJKL[M]NOPQRSTUVWXYZ

This page was generated on 2021-11-25 14:05:36 -0500 (Thu, 25 Nov 2021).

INSTALL results for metaMS on merida1

To the developers/maintainers of the metaMS package:
- Please allow up to 24 hours (and sometimes 48 hours) for your latest push to git@git.bioconductor.org:packages/metaMS.git to
reflect on this report. See How and When does the builder pull? When will my changes propagate? here for more information.
- Make sure to use the following settings in order to reproduce any error or warning you see on this page.

raw results

Package 1093/2068HostnameOS / ArchINSTALLBUILDCHECKBUILD BIN
metaMS 1.31.0  (landing page)
Yann Guitton
Snapshot Date: 2021-11-24 14:50:13 -0500 (Wed, 24 Nov 2021)
git_url: https://git.bioconductor.org/packages/metaMS
git_branch: master
git_last_commit: a2969d4
git_last_commit_date: 2021-10-26 12:13:00 -0500 (Tue, 26 Oct 2021)
nebbiolo1Linux (Ubuntu 20.04.3 LTS) / x86_64  OK    OK    OK  UNNEEDED, same version is already published
riesling1Windows Server 2019 Standard / x64  OK    OK    OK    OK  
merida1macOS 10.14.6 Mojave / x86_64  OK    OK    OK    OK  NO, package depends on 'CAMERA' which is not available

Summary

Package: metaMS
Version: 1.31.0
Command: /Library/Frameworks/R.framework/Resources/bin/R CMD INSTALL metaMS
StartedAt: 2021-11-24 17:25:06 -0500 (Wed, 24 Nov 2021)
EndedAt: 2021-11-24 17:26:00 -0500 (Wed, 24 Nov 2021)
EllapsedTime: 53.7 seconds
RetCode: 0
Status:   OK  

Command output

##############################################################################
##############################################################################
###
### Running command:
###
###   /Library/Frameworks/R.framework/Resources/bin/R CMD INSTALL metaMS
###
##############################################################################
##############################################################################


* installing to library ‘/Library/Frameworks/R.framework/Versions/4.2/Resources/library’
* installing *source* package ‘metaMS’ ...
** using staged installation
** R
** data
** inst
** byte-compile and prepare package for lazy loading
** help
*** installing help indices
** building package indices
** installing vignettes
** testing if installed package can be loaded from temporary location
** testing if installed package can be loaded from final location
** testing if installed package keeps a record of temporary installation path
* DONE (metaMS)