Back to Multiple platform build/check report for BioC 3.14
ABCDEFGHIJKL[M]NOPQRSTUVWXYZ

This page was generated on 2021-08-03 12:06:50 -0400 (Tue, 03 Aug 2021).

BUILD BIN results for metaMS on merida1

To the developers/maintainers of the metaMS package:
- Please allow up to 24 hours (and sometimes 48 hours) for your latest push to git@git.bioconductor.org:packages/metaMS.git to
reflect on this report. See How and When does the builder pull? When will my changes propagate? here for more information.
- Make sure to use the following settings in order to reproduce any error or warning you see on this page.

raw results

Package 1072/2015HostnameOS / ArchINSTALLBUILDCHECKBUILD BIN
metaMS 1.29.0  (landing page)
Yann Guitton
Snapshot Date: 2021-08-02 14:50:09 -0400 (Mon, 02 Aug 2021)
URL: https://git.bioconductor.org/packages/metaMS
Branch: master
Last Commit: 5a99fe0
Last Changed Date: 2021-05-19 12:04:21 -0400 (Wed, 19 May 2021)
nebbiolo2Linux (Ubuntu 20.04.2 LTS) / x86_64  OK    OK    WARNINGS  UNNEEDED, same version is already published
riesling1Windows Server 2019 Standard / x64  OK    OK    WARNINGS    OK  NO, package depends on 'CAMERA' which is not available
merida1macOS 10.14.6 Mojave / x86_64  OK    OK    WARNINGS    OK  UNNEEDED, same version is already published

Summary

Package: metaMS
Version: 1.29.0
Command: rm -rf metaMS.buildbin-libdir && mkdir metaMS.buildbin-libdir && /Users/biocbuild/BBS/utils/build-universal.sh metaMS_1.29.0.tar.gz /Library/Frameworks/R.framework/Resources/bin/R metaMS.buildbin-libdir
StartedAt: 2021-08-03 09:54:59 -0400 (Tue, 03 Aug 2021)
EndedAt: 2021-08-03 09:55:46 -0400 (Tue, 03 Aug 2021)
EllapsedTime: 46.8 seconds
RetCode: 0
Status:   OK  
PackageFile: metaMS_1.29.0.tgz
PackageFileSize: 4.117 MiB

Command output

##############################################################################
##############################################################################
###
### Running command:
###
###   rm -rf metaMS.buildbin-libdir && mkdir metaMS.buildbin-libdir && /Users/biocbuild/BBS/utils/build-universal.sh metaMS_1.29.0.tar.gz /Library/Frameworks/R.framework/Resources/bin/R metaMS.buildbin-libdir
###
##############################################################################
##############################################################################


>>>>>>> 
>>>>>>> INSTALLATION WITH 'R CMD INSTALL --preclean --no-multiarch --library=metaMS.buildbin-libdir metaMS_1.29.0.tar.gz'
>>>>>>> 

* installing *source* package ‘metaMS’ ...
** using staged installation
** R
** data
** inst
** byte-compile and prepare package for lazy loading
Warning message:
multiple methods tables found for ‘bin’ 
** help
*** installing help indices
** building package indices
** installing vignettes
** testing if installed package can be loaded from temporary location
Warning: multiple methods tables found for ‘bin’
** testing if installed package can be loaded from final location
Warning: multiple methods tables found for ‘bin’
** testing if installed package keeps a record of temporary installation path
* DONE (metaMS)