Back to Multiple platform build/check report for BioC 3.14
ABCDEFGHIJKL[M]NOPQRSTUVWXYZ

This page was generated on 2021-08-03 12:05:22 -0400 (Tue, 03 Aug 2021).

All results for package megadepth

To the developers/maintainers of the megadepth package:
- Please allow up to 24 hours (and sometimes 48 hours) for your latest push to git@git.bioconductor.org:packages/megadepth.git to
reflect on this report. See How and When does the builder pull? When will my changes propagate? here for more information.
- Make sure to use the following settings in order to reproduce any error or warning you see on this page.

raw results

Package 1050/2015HostnameOS / ArchINSTALLBUILDCHECKBUILD BIN
megadepth 1.3.0  (landing page)
David Zhang
Snapshot Date: 2021-08-02 14:50:09 -0400 (Mon, 02 Aug 2021)
URL: https://git.bioconductor.org/packages/megadepth
Branch: master
Last Commit: 3f3551d
Last Changed Date: 2021-05-19 12:57:10 -0400 (Wed, 19 May 2021)
nebbiolo2Linux (Ubuntu 20.04.2 LTS) / x86_64  OK    OK    ERROR  
riesling1Windows Server 2019 Standard / x64  OK    OK    OK    OK  UNNEEDED, same version is already published
merida1macOS 10.14.6 Mojave / x86_64  OK    OK    ERROR    OK  

Results for Bioconductor software packages that depend directly on package megadepth

QUICK STATSOS / ArchINSTALLBUILDCHECKBUILD BIN
nebbiolo2Linux (Ubuntu 20.04.2 LTS) / x86_64
001
001
0001
riesling1Windows Server 2019 Standard / x64
001
001
0001
001
merida1macOS 10.14.6 Mojave / x86_64
001
001
0001
001
Package 1/1HostnameOS / ArchINSTALLBUILDCHECKBUILD BIN
dasper 1.3.0  (landing page)
David Zhang
Last Commit: 325c8f4
Last Changed Date: 2021-07-22 06:53:19 -0400
nebbiolo2Linux (Ubuntu 20.04.2 LTS) / x86_64  OK    OK    OK  UNNEEDED, same version is already published
riesling1Windows Server 2019 Standard / x64  OK    OK    OK    OK  UNNEEDED, same version is already published
merida1macOS 10.14.6 Mojave / x86_64  OK    OK    OK    OK  UNNEEDED, same version is already published