Back to Multiple platform build/check report for BioC 3.14
ABCDEFGHIJKL[M]NOPQRSTUVWXYZ

BUILD results for maigesPack on riesling1

This page was generated on 2021-06-16 12:05:05 -0400 (Wed, 16 Jun 2021).

Package 997/1993HostnameOS / ArchINSTALLBUILDCHECKBUILD BIN
maigesPack 1.57.0  (landing page)
Gustavo H. Esteves
Snapshot Date: 2021-06-15 14:50:06 -0400 (Tue, 15 Jun 2021)
URL: https://git.bioconductor.org/packages/maigesPack
Branch: master
Last Commit: 9eda04e
Last Changed Date: 2021-05-19 11:39:47 -0400 (Wed, 19 May 2021)
nebbiolo2Linux (Ubuntu 20.04.2 LTS) / x86_64  OK    OK    OK  UNNEEDED, same version is already published
riesling1Windows Server 2019 Standard / x64  OK    OK    OK    OK  UNNEEDED, same version is already published
merida1macOS 10.14.6 Mojave / x86_64  OK    OK    OK    OK  UNNEEDED, same version is already published
To the developers/maintainers of the maigesPack package:
- Please allow up to 24 hours (and sometimes 48 hours) for your latest push to git@git.bioconductor.org:packages/maigesPack.git to
reflect on this report. See How and When does the builder pull? When will my changes propagate? here for more information.
- Make sure to use the following settings in order to reproduce any error or warning you see on this page.

Summary

Package: maigesPack
Version: 1.57.0
Command: chmod a+r maigesPack -R && D:\biocbuild\bbs-3.14-bioc\R\bin\R.exe CMD build --keep-empty-dirs --no-resave-data maigesPack
StartedAt: 2021-06-15 20:33:28 -0400 (Tue, 15 Jun 2021)
EndedAt: 2021-06-15 20:37:33 -0400 (Tue, 15 Jun 2021)
EllapsedTime: 244.7 seconds
RetCode: 0
Status:   OK   
PackageFile: maigesPack_1.57.0.tar.gz
PackageFileSize: 1.039 MiB

Command output

##############################################################################
##############################################################################
###
### Running command:
###
###   chmod a+r maigesPack -R && D:\biocbuild\bbs-3.14-bioc\R\bin\R.exe CMD build --keep-empty-dirs --no-resave-data maigesPack
###
##############################################################################
##############################################################################


* checking for file 'maigesPack/DESCRIPTION' ... OK
* preparing 'maigesPack':
* checking DESCRIPTION meta-information ... OK
* cleaning src
* installing the package to build vignettes
* creating vignettes ... OK
* cleaning src
* checking for LF line-endings in source and make files and shell scripts
* checking for empty or unneeded directories
* looking to see if a 'data/datalist' file should be added
* building 'maigesPack_1.57.0.tar.gz'