Back to Multiple platform build/check report for BioC 3.14
ABCDEFGHIJKL[M]NOPQRSTUVWXYZ

This page was generated on 2021-09-21 12:06:08 -0400 (Tue, 21 Sep 2021).

BUILD BIN results for maigesPack on riesling1

To the developers/maintainers of the maigesPack package:
- Please allow up to 24 hours (and sometimes 48 hours) for your latest push to git@git.bioconductor.org:packages/maigesPack.git to
reflect on this report. See How and When does the builder pull? When will my changes propagate? here for more information.
- Make sure to use the following settings in order to reproduce any error or warning you see on this page.

raw results

Package 1016/2029HostnameOS / ArchINSTALLBUILDCHECKBUILD BIN
maigesPack 1.57.0  (landing page)
Gustavo H. Esteves
Snapshot Date: 2021-09-20 14:50:09 -0400 (Mon, 20 Sep 2021)
git_url: https://git.bioconductor.org/packages/maigesPack
git_branch: master
git_last_commit: 9eda04e
git_last_commit_date: 2021-05-19 11:39:47 -0400 (Wed, 19 May 2021)
nebbiolo2Linux (Ubuntu 20.04.2 LTS) / x86_64  OK    OK    OK  UNNEEDED, same version is already published
riesling1Windows Server 2019 Standard / x64  OK    OK    OK    OK  UNNEEDED, same version is already published
merida1macOS 10.14.6 Mojave / x86_64  OK    OK    OK    OK  UNNEEDED, same version is already published

Summary

Package: maigesPack
Version: 1.57.0
Command: rm -rf maigesPack.buildbin-libdir && mkdir maigesPack.buildbin-libdir && D:\biocbuild\bbs-3.14-bioc\R\bin\R.exe CMD INSTALL --merge-multiarch --build --library=maigesPack.buildbin-libdir maigesPack_1.57.0.tar.gz
StartedAt: 2021-09-21 05:50:26 -0400 (Tue, 21 Sep 2021)
EndedAt: 2021-09-21 05:54:27 -0400 (Tue, 21 Sep 2021)
EllapsedTime: 240.5 seconds
RetCode: 0
Status:   OK  
PackageFile: maigesPack_1.57.0.zip
PackageFileSize: 1.667 MiB

Command output

##############################################################################
##############################################################################
###
### Running command:
###
###   rm -rf maigesPack.buildbin-libdir && mkdir maigesPack.buildbin-libdir && D:\biocbuild\bbs-3.14-bioc\R\bin\R.exe CMD INSTALL --merge-multiarch --build --library=maigesPack.buildbin-libdir maigesPack_1.57.0.tar.gz
###
##############################################################################
##############################################################################



install for i386

* installing *source* package 'maigesPack' ...
** using staged installation
** libs
"C:/rtools40/mingw32/bin/"gcc  -I"D:/biocbuild/bbs-3.14-bioc/R/include" -DNDEBUG     -I"C:/extsoft/include"     -O2 -Wall  -std=gnu99 -mfpmath=sse -msse2 -mstackrealign  -c Minfo.c -o Minfo.o
"C:/rtools40/mingw32/bin/"gcc  -I"D:/biocbuild/bbs-3.14-bioc/R/include" -DNDEBUG     -I"C:/extsoft/include"     -O2 -Wall  -std=gnu99 -mfpmath=sse -msse2 -mstackrealign  -c bootstrapT.c -o bootstrapT.o
"C:/rtools40/mingw32/bin/"gcc  -I"D:/biocbuild/bbs-3.14-bioc/R/include" -DNDEBUG     -I"C:/extsoft/include"     -O2 -Wall  -std=gnu99 -mfpmath=sse -msse2 -mstackrealign  -c register.c -o register.o
"C:/rtools40/mingw32/bin/"gcc  -I"D:/biocbuild/bbs-3.14-bioc/R/include" -DNDEBUG     -I"C:/extsoft/include"     -O2 -Wall  -std=gnu99 -mfpmath=sse -msse2 -mstackrealign  -c robustCorr.c -o robustCorr.o
"C:/rtools40/mingw32/bin/"gcc  -I"D:/biocbuild/bbs-3.14-bioc/R/include" -DNDEBUG     -I"C:/extsoft/include"     -O2 -Wall  -std=gnu99 -mfpmath=sse -msse2 -mstackrealign  -c stats.c -o stats.o
C:/rtools40/mingw32/bin/gcc -shared -s -static-libgcc -o maigesPack.dll tmp.def Minfo.o bootstrapT.o register.o robustCorr.o stats.o -LC:/extsoft/lib/i386 -LC:/extsoft/lib -LD:/biocbuild/bbs-3.14-bioc/R/bin/i386 -lR
installing to D:/biocbuild/bbs-3.14-bioc/meat/maigesPack.buildbin-libdir/00LOCK-maigesPack/00new/maigesPack/libs/i386
** R
** data
** inst
** byte-compile and prepare package for lazy loading
** help
*** installing help indices
  converting help for package 'maigesPack'
    finding HTML links ... done
    MI                                      html  
    activeMod                               html  
    activeModScoreHTML                      html  
    activeNet                               html  
    activeNetScoreHTML                      html  
    addGeneGrps                             html  
    addPaths                                html  
    bootstrapCor                            html  
    bootstrapMI                             html  
    bootstrapT                              html  
    boxplot-methods                         html  
    bracketMethods                          html  
    calcA                                   html  
    calcW                                   html  
    classifyKNN                             html  
    classifyKNNsc                           html  
    classifyLDA                             html  
    classifyLDAsc                           html  
    classifySVM                             html  
    classifySVMsc                           html  
    coerce-methods                          html  
    compCorr                                html  
    contrastsFitM                           html  
    createMaigesRaw                         html  
    createTDMS                              html  
    deGenes2by2BootT                        html  
    deGenes2by2Ttest                        html  
    deGenes2by2Wilcox                       html  
    deGenesANOVA                            html  
    designANOVA                             html  
    dim-methods                             html  
    gastro                                  html  
    getLabels                               html  
    heatmapsM                               html  
    hierM                                   html  
    hierMde                                 html  
    image-methods                           html  
    kmeansM                                 html  
    kmeansMde                               html  
    loadData                                html  
    maiges-class                            html  
    maigesANOVA-class                       html  
    maigesActMod-class                      html  
    maigesActNet-class                      html  
    maigesClass-class                       html  
    maigesDE-class                          html  
    maigesDEcluster-class                   html  
    maigesPreRaw-class                      html  
    maigesRaw-class                         html  
    maigesRelNetB-class                     html  
    maigesRelNetM-class                     html  
    normLoc                                 html  
    normOLIN                                html  
    normRepLoess                            html  
    normScaleLimma                          html  
    normScaleMarray                         html  
    plot-methods                            html  
    plotGenePair                            html  
    print-methods                           html  
    relNet2TGF                              html  
    relNetworkB                             html  
    relNetworkM                             html  
    robustCorr                              html  
    selSpots                                html  
    show-methods                            html  
    somM                                    html  
    somMde                                  html  
    summarizeReplicates                     html  
    summary-methods                         html  
    tableClass                              html  
    tablesDE                                html  
** building package indices
** installing vignettes
** testing if installed package can be loaded from temporary location
** testing if installed package can be loaded from final location
** testing if installed package keeps a record of temporary installation path

install for x64

* installing *source* package 'maigesPack' ...
** libs
"C:/rtools40/mingw64/bin/"gcc  -I"D:/biocbuild/bbs-3.14-bioc/R/include" -DNDEBUG     -I"C:/extsoft/include"     -O2 -Wall  -std=gnu99 -mfpmath=sse -msse2 -mstackrealign  -c Minfo.c -o Minfo.o
"C:/rtools40/mingw64/bin/"gcc  -I"D:/biocbuild/bbs-3.14-bioc/R/include" -DNDEBUG     -I"C:/extsoft/include"     -O2 -Wall  -std=gnu99 -mfpmath=sse -msse2 -mstackrealign  -c bootstrapT.c -o bootstrapT.o
"C:/rtools40/mingw64/bin/"gcc  -I"D:/biocbuild/bbs-3.14-bioc/R/include" -DNDEBUG     -I"C:/extsoft/include"     -O2 -Wall  -std=gnu99 -mfpmath=sse -msse2 -mstackrealign  -c register.c -o register.o
"C:/rtools40/mingw64/bin/"gcc  -I"D:/biocbuild/bbs-3.14-bioc/R/include" -DNDEBUG     -I"C:/extsoft/include"     -O2 -Wall  -std=gnu99 -mfpmath=sse -msse2 -mstackrealign  -c robustCorr.c -o robustCorr.o
"C:/rtools40/mingw64/bin/"gcc  -I"D:/biocbuild/bbs-3.14-bioc/R/include" -DNDEBUG     -I"C:/extsoft/include"     -O2 -Wall  -std=gnu99 -mfpmath=sse -msse2 -mstackrealign  -c stats.c -o stats.o
C:/rtools40/mingw64/bin/gcc -shared -s -static-libgcc -o maigesPack.dll tmp.def Minfo.o bootstrapT.o register.o robustCorr.o stats.o -LC:/extsoft/lib/x64 -LC:/extsoft/lib -LD:/biocbuild/bbs-3.14-bioc/R/bin/x64 -lR
installing to D:/biocbuild/bbs-3.14-bioc/meat/maigesPack.buildbin-libdir/maigesPack/libs/x64
** testing if installed package can be loaded
* MD5 sums
packaged installation of 'maigesPack' as maigesPack_1.57.0.zip
* DONE (maigesPack)