Back to Multiple platform build/check report for BioC 3.14
ABCDEFGHIJKL[M]NOPQRSTUVWXYZ

This page was generated on 2021-08-03 12:05:47 -0400 (Tue, 03 Aug 2021).

BUILD results for maigesPack on nebbiolo2

To the developers/maintainers of the maigesPack package:
- Please allow up to 24 hours (and sometimes 48 hours) for your latest push to git@git.bioconductor.org:packages/maigesPack.git to
reflect on this report. See How and When does the builder pull? When will my changes propagate? here for more information.
- Make sure to use the following settings in order to reproduce any error or warning you see on this page.

raw results

Package 1009/2015HostnameOS / ArchINSTALLBUILDCHECKBUILD BIN
maigesPack 1.57.0  (landing page)
Gustavo H. Esteves
Snapshot Date: 2021-08-02 14:50:09 -0400 (Mon, 02 Aug 2021)
URL: https://git.bioconductor.org/packages/maigesPack
Branch: master
Last Commit: 9eda04e
Last Changed Date: 2021-05-19 11:39:47 -0400 (Wed, 19 May 2021)
nebbiolo2Linux (Ubuntu 20.04.2 LTS) / x86_64  OK    OK    OK  UNNEEDED, same version is already published
riesling1Windows Server 2019 Standard / x64  OK    OK    OK    OK  UNNEEDED, same version is already published
merida1macOS 10.14.6 Mojave / x86_64  OK    OK    OK    OK  UNNEEDED, same version is already published

Summary

Package: maigesPack
Version: 1.57.0
Command: /home/biocbuild/bbs-3.14-bioc/R/bin/R CMD build --keep-empty-dirs --no-resave-data maigesPack
StartedAt: 2021-08-02 17:30:49 -0400 (Mon, 02 Aug 2021)
EndedAt: 2021-08-02 17:31:09 -0400 (Mon, 02 Aug 2021)
EllapsedTime: 20.1 seconds
RetCode: 0
Status:   OK  
PackageFile: maigesPack_1.57.0.tar.gz
PackageFileSize: 1.038 MiB

Command output

##############################################################################
##############################################################################
###
### Running command:
###
###   /home/biocbuild/bbs-3.14-bioc/R/bin/R CMD build --keep-empty-dirs --no-resave-data maigesPack
###
##############################################################################
##############################################################################


* checking for file ‘maigesPack/DESCRIPTION’ ... OK
* preparing ‘maigesPack’:
* checking DESCRIPTION meta-information ... OK
* cleaning src
* installing the package to build vignettes
* creating vignettes ... OK
* cleaning src
* checking for LF line-endings in source and make files and shell scripts
* checking for empty or unneeded directories
* looking to see if a ‘data/datalist’ file should be added
* building ‘maigesPack_1.57.0.tar.gz’