Back to Multiple platform build/check report for BioC 3.20:   simplified   long
ABCDEFGHIJKL[M]NOPQRSTUVWXYZ

This page was generated on 2024-06-07 20:27 -0400 (Fri, 07 Jun 2024).

HostnameOSArch (*)R versionInstalled pkgs
nebbiolo2Linux (Ubuntu 22.04.3 LTS)x86_644.4.0 RC (2024-04-16 r86468) -- "Puppy Cup" 4672
palomino4Windows Server 2022 Datacenterx644.4.0 RC (2024-04-16 r86468 ucrt) -- "Puppy Cup" 4407
merida1macOS 12.7.4 Montereyx86_644.4.0 Patched (2024-04-24 r86482) -- "Puppy Cup" 4434
kjohnson1macOS 13.6.6 Venturaarm644.4.0 Patched (2024-04-24 r86482) -- "Puppy Cup" 4387
Click on any hostname to see more info about the system (e.g. compilers)      (*) as reported by 'uname -p', except on Windows and Mac OS X

Package 1107/2233HostnameOS / ArchINSTALLBUILDCHECKBUILD BIN
made4 1.79.0  (landing page)
Aedin Culhane
Snapshot Date: 2024-06-05 14:00:27 -0400 (Wed, 05 Jun 2024)
git_url: https://git.bioconductor.org/packages/made4
git_branch: devel
git_last_commit: d732f8d
git_last_commit_date: 2024-04-30 10:13:40 -0400 (Tue, 30 Apr 2024)
nebbiolo2Linux (Ubuntu 22.04.3 LTS) / x86_64  OK    OK    OK  UNNEEDED, same version is already published
palomino4Windows Server 2022 Datacenter / x64  OK    OK    OK    OK  UNNEEDED, same version is already published
merida1macOS 12.7.4 Monterey / x86_64  OK    OK    OK    OK  UNNEEDED, same version is already published
kjohnson1macOS 13.6.6 Ventura / arm64  OK    OK    OK    OK  UNNEEDED, same version is already published


BUILD results for made4 on palomino4

To the developers/maintainers of the made4 package:
- Allow up to 24 hours (and sometimes 48 hours) for your latest push to git@git.bioconductor.org:packages/made4.git to reflect on this report. See Troubleshooting Build Report for more information.
- Use the following Renviron settings to reproduce errors and warnings.
- If 'R CMD check' started to fail recently on the Linux builder(s) over a missing dependency, add the missing dependency to 'Suggests:' in your DESCRIPTION file. See Renviron.bioc for more information.

raw results


Summary

Package: made4
Version: 1.79.0
Command: chmod a+r made4 -R && F:\biocbuild\bbs-3.20-bioc\R\bin\R.exe CMD build --keep-empty-dirs --no-resave-data made4
StartedAt: 2024-06-05 20:00:04 -0400 (Wed, 05 Jun 2024)
EndedAt: 2024-06-05 20:01:16 -0400 (Wed, 05 Jun 2024)
EllapsedTime: 72.1 seconds
RetCode: 0
Status:   OK  
PackageFile: made4_1.79.0.tar.gz
PackageFileSize: 1.623 MiB

Command output

##############################################################################
##############################################################################
###
### Running command:
###
###   chmod a+r made4 -R && F:\biocbuild\bbs-3.20-bioc\R\bin\R.exe CMD build --keep-empty-dirs --no-resave-data made4
###
##############################################################################
##############################################################################


* checking for file 'made4/DESCRIPTION' ... OK
* preparing 'made4':
* checking DESCRIPTION meta-information ... OK
* installing the package to build vignettes
* creating vignettes ... OK
* checking for LF line-endings in source and make files and shell scripts
* checking for empty or unneeded directories
* building 'made4_1.79.0.tar.gz'