Back to Multiple platform build/check report for BioC 3.20:   simplified   long
ABCDEFGHIJKL[M]NOPQRSTUVWXYZ

This page was generated on 2024-06-14 12:02 -0400 (Fri, 14 Jun 2024).

HostnameOSArch (*)R versionInstalled pkgs
nebbiolo2Linux (Ubuntu 22.04.3 LTS)x86_644.4.0 RC (2024-04-16 r86468) -- "Puppy Cup" 4679
lconwaymacOS 12.7.1 Montereyx86_644.4.1 RC (2024-06-06 r86719) -- "Race for Your Life" 4353
Click on any hostname to see more info about the system (e.g. compilers)      (*) as reported by 'uname -p', except on Windows and Mac OS X

Package 1111/2239HostnameOS / ArchINSTALLBUILDCHECKBUILD BIN
made4 1.79.0  (landing page)
Aedin Culhane
Snapshot Date: 2024-06-13 14:00 -0400 (Thu, 13 Jun 2024)
git_url: https://git.bioconductor.org/packages/made4
git_branch: devel
git_last_commit: d732f8d
git_last_commit_date: 2024-04-30 10:13:40 -0400 (Tue, 30 Apr 2024)
nebbiolo2Linux (Ubuntu 22.04.3 LTS) / x86_64  OK    OK    OK  UNNEEDED, same version is already published
lconwaymacOS 12.7.1 Monterey / x86_64  OK    OK    OK    OK  UNNEEDED, same version is already published


CHECK results for made4 on nebbiolo2

To the developers/maintainers of the made4 package:
- Allow up to 24 hours (and sometimes 48 hours) for your latest push to git@git.bioconductor.org:packages/made4.git to reflect on this report. See Troubleshooting Build Report for more information.
- Use the following Renviron settings to reproduce errors and warnings.
- If 'R CMD check' started to fail recently on the Linux builder(s) over a missing dependency, add the missing dependency to 'Suggests:' in your DESCRIPTION file. See Renviron.bioc for more information.

raw results


Summary

Package: made4
Version: 1.79.0
Command: /home/biocbuild/bbs-3.20-bioc/R/bin/R CMD check --install=check:made4.install-out.txt --library=/home/biocbuild/bbs-3.20-bioc/R/site-library --timings made4_1.79.0.tar.gz
StartedAt: 2024-06-14 00:59:51 -0400 (Fri, 14 Jun 2024)
EndedAt: 2024-06-14 01:02:31 -0400 (Fri, 14 Jun 2024)
EllapsedTime: 160.3 seconds
RetCode: 0
Status:   OK  
CheckDir: made4.Rcheck
Warnings: 0

Command output

##############################################################################
##############################################################################
###
### Running command:
###
###   /home/biocbuild/bbs-3.20-bioc/R/bin/R CMD check --install=check:made4.install-out.txt --library=/home/biocbuild/bbs-3.20-bioc/R/site-library --timings made4_1.79.0.tar.gz
###
##############################################################################
##############################################################################


* using log directory ‘/home/biocbuild/bbs-3.20-bioc/meat/made4.Rcheck’
* using R version 4.4.0 RC (2024-04-16 r86468)
* using platform: x86_64-pc-linux-gnu
* R was compiled by
    gcc (Ubuntu 11.4.0-1ubuntu1~22.04) 11.4.0
    GNU Fortran (Ubuntu 11.4.0-1ubuntu1~22.04) 11.4.0
* running under: Ubuntu 22.04.4 LTS
* using session charset: UTF-8
* checking for file ‘made4/DESCRIPTION’ ... OK
* this is package ‘made4’ version ‘1.79.0’
* checking package namespace information ... OK
* checking package dependencies ... OK
* checking if this is a source package ... OK
* checking if there is a namespace ... OK
* checking for hidden files and directories ... OK
* checking for portable file names ... OK
* checking for sufficient/correct file permissions ... OK
* checking whether package ‘made4’ can be installed ... OK
* checking installed package size ... OK
* checking package directory ... OK
* checking ‘build’ directory ... OK
* checking DESCRIPTION meta-information ... OK
* checking top-level files ... OK
* checking for left-over files ... OK
* checking index information ... OK
* checking package subdirectories ... OK
* checking code files for non-ASCII characters ... OK
* checking R files for syntax errors ... OK
* checking whether the package can be loaded ... OK
* checking whether the package can be loaded with stated dependencies ... OK
* checking whether the package can be unloaded cleanly ... OK
* checking whether the namespace can be loaded with stated dependencies ... OK
* checking whether the namespace can be unloaded cleanly ... OK
* checking loading without being on the library search path ... OK
* checking dependencies in R code ... OK
* checking S3 generic/method consistency ... OK
* checking replacement functions ... OK
* checking foreign function calls ... OK
* checking R code for possible problems ... OK
* checking Rd files ... NOTE
checkRd: (-1) NCI60.Rd:19: Escaped LaTeX specials: \$
checkRd: (-1) NCI60.Rd:19-20: Lost braces in \itemize; meant \describe ?
checkRd: (-1) NCI60.Rd:22: Escaped LaTeX specials: \$
checkRd: (-1) NCI60.Rd:22-23: Lost braces in \itemize; meant \describe ?
checkRd: (-1) NCI60.Rd:25: Escaped LaTeX specials: \$
checkRd: (-1) NCI60.Rd:25-28: Lost braces in \itemize; meant \describe ?
checkRd: (-1) NCI60.Rd:30: Escaped LaTeX specials: \$
checkRd: (-1) NCI60.Rd:30-33: Lost braces in \itemize; meant \describe ?
checkRd: (-1) NCI60.Rd:31: Escaped LaTeX specials: \$ \$
checkRd: (-1) NCI60.Rd:32: Escaped LaTeX specials: \$ \$
checkRd: (-1) NCI60.Rd:33: Escaped LaTeX specials: \$ \$
checkRd: (-1) NCI60.Rd:50: Escaped LaTeX specials: \$
checkRd: (-1) NCI60.Rd:52: Escaped LaTeX specials: \$ \$
checkRd: (-1) NCI60.Rd:60: Escaped LaTeX specials: \$
checkRd: (-1) NCI60.Rd:64: Escaped LaTeX specials: \$ \$
prepare_Rd: asDataFrame.Rd:30: Dropping empty section \examples
checkRd: (-1) between.graph.Rd:17: Escaped LaTeX specials: \$ \$
checkRd: (-1) between.graph.Rd:25: Escaped LaTeX specials: \$
checkRd: (-1) between.graph.Rd:26: Escaped LaTeX specials: \$
checkRd: (-1) between.graph.Rd:32: Escaped LaTeX specials: \$ \$
checkRd: (-1) between.graph.Rd:34: Escaped LaTeX specials: \$
checkRd: (-1) bga.Rd:27: Escaped LaTeX specials: \$ \$ \$
checkRd: (-1) bga.Rd:70: Escaped LaTeX specials: \$ \$
checkRd: (-1) bga.Rd:76: Escaped LaTeX specials: \$
checkRd: (-1) bga.Rd:95: Escaped LaTeX specials: \$
checkRd: (-1) cia.Rd:69: Escaped LaTeX specials: \$ \$
checkRd: (-1) cia.Rd:77: Escaped LaTeX specials: \$
checkRd: (-1) cia.Rd:78: Escaped LaTeX specials: \$
checkRd: (-1) cia.Rd:85: Escaped LaTeX specials: \$ \$
checkRd: (-1) do3d.Rd:22: Escaped LaTeX specials: \$ \$
checkRd: (-1) do3d.Rd:24: Escaped LaTeX specials: \$ \$
checkRd: (-1) genes1d.Rd:9: Escaped LaTeX specials: \$ \$
checkRd: (-1) genes1d.Rd:16: Escaped LaTeX specials: \$ \$
checkRd: (-1) genes1d.Rd:22: Escaped LaTeX specials: \$ \$
checkRd: (-1) html3D.Rd:19: Escaped LaTeX specials: \$ \$
checkRd: (-1) html3D.Rd:20: Escaped LaTeX specials: \$ \$
checkRd: (-1) jmol3D.Rd:14: Escaped LaTeX specials: \$ \$
checkRd: (-1) jmol3D.Rd:15: Escaped LaTeX specials: \$ \$
checkRd: (-1) khan.Rd:15: Escaped LaTeX specials: \$
checkRd: (-1) khan.Rd:15-16: Lost braces in \itemize; meant \describe ?
checkRd: (-1) khan.Rd:17: Escaped LaTeX specials: \$
checkRd: (-1) khan.Rd:17-18: Lost braces in \itemize; meant \describe ?
checkRd: (-1) khan.Rd:19: Escaped LaTeX specials: \$
checkRd: (-1) khan.Rd:19-20: Lost braces in \itemize; meant \describe ?
checkRd: (-1) khan.Rd:20: Escaped LaTeX specials: \$ \$
checkRd: (-1) khan.Rd:21: Escaped LaTeX specials: \$
checkRd: (-1) khan.Rd:21-23: Lost braces in \itemize; meant \describe ?
checkRd: (-1) khan.Rd:23: Escaped LaTeX specials: \$
checkRd: (-1) khan.Rd:24: Escaped LaTeX specials: \$
checkRd: (-1) khan.Rd:24-26: Lost braces in \itemize; meant \describe ?
checkRd: (-1) khan.Rd:26: Escaped LaTeX specials: \$
checkRd: (-1) khan.Rd:27: Escaped LaTeX specials: \$
checkRd: (-1) khan.Rd:27-40: Lost braces in \itemize; meant \describe ?
checkRd: (-1) khan.Rd:31: Escaped LaTeX specials: \$
checkRd: (-1) khan.Rd:31: Lost braces in \itemize; meant \describe ?
checkRd: (-1) khan.Rd:32: Escaped LaTeX specials: \$
checkRd: (-1) khan.Rd:32: Lost braces in \itemize; meant \describe ?
checkRd: (-1) khan.Rd:33: Escaped LaTeX specials: \$
checkRd: (-1) khan.Rd:33: Lost braces in \itemize; meant \describe ?
checkRd: (-1) khan.Rd:34: Escaped LaTeX specials: \$
checkRd: (-1) khan.Rd:34: Lost braces in \itemize; meant \describe ?
checkRd: (-1) khan.Rd:35: Escaped LaTeX specials: \$
checkRd: (-1) khan.Rd:35: Lost braces in \itemize; meant \describe ?
checkRd: (-1) khan.Rd:36: Escaped LaTeX specials: \$
checkRd: (-1) khan.Rd:36: Lost braces in \itemize; meant \describe ?
checkRd: (-1) khan.Rd:37: Escaped LaTeX specials: \$
checkRd: (-1) khan.Rd:37: Lost braces in \itemize; meant \describe ?
checkRd: (-1) khan.Rd:38: Escaped LaTeX specials: \$
checkRd: (-1) khan.Rd:38: Lost braces in \itemize; meant \describe ?
checkRd: (-1) ord.Rd:27: Escaped LaTeX specials: \$ \$
checkRd: (-1) ord.Rd:53: Escaped LaTeX specials: \$
checkRd: (-1) ord.Rd:66: Escaped LaTeX specials: \$ \$
checkRd: (-1) ord.Rd:74: Escaped LaTeX specials: \$
checkRd: (-1) plotarrays.Rd:6: Escaped LaTeX specials: \$
checkRd: (-1) plotgenes.Rd:6: Escaped LaTeX specials: \$
checkRd: (-1) s.var.Rd:35: Escaped LaTeX specials: \$ \$ \$
checkRd: (-1) s.var.Rd:38: Escaped LaTeX specials: \$ \$
checkRd: (-1) sumstats.Rd:16: Escaped LaTeX specials: \$ \$
checkRd: (-1) sumstats.Rd:17: Escaped LaTeX specials: \$
checkRd: (-1) topgenes.Rd:16: Escaped LaTeX specials: \$ \$
checkRd: (-1) topgenes.Rd:17: Escaped LaTeX specials: \$ \$ \$
checkRd: (-1) topgenes.Rd:22: Escaped LaTeX specials: \$ \$
checkRd: (-1) topgenes.Rd:33: Escaped LaTeX specials: \$ \$
* checking Rd metadata ... OK
* checking Rd cross-references ... OK
* checking for missing documentation entries ... OK
* checking for code/documentation mismatches ... OK
* checking Rd \usage sections ... NOTE
Documented arguments not in \usage in Rd file 'forrwcoa.Rd':
  ‘...’

Documented arguments not in \usage in Rd file 'genes1d.Rd':
  ‘...’

Functions with \usage entries need to have the appropriate \alias
entries, and all their arguments documented.
The \usage entries must correspond to syntactically valid R code.
See chapter ‘Writing R documentation files’ in the ‘Writing R
Extensions’ manual.
* checking Rd contents ... OK
* checking for unstated dependencies in examples ... OK
* checking contents of ‘data’ directory ... OK
* checking data for non-ASCII characters ... OK
* checking LazyData ... OK
* checking data for ASCII and uncompressed saves ... OK
* checking files in ‘vignettes’ ... OK
* checking examples ... OK
* checking for unstated dependencies in vignettes ... OK
* checking package vignettes ... OK
* checking re-building of vignette outputs ... OK
* checking PDF version of manual ... OK
* DONE

Status: 2 NOTEs
See
  ‘/home/biocbuild/bbs-3.20-bioc/meat/made4.Rcheck/00check.log’
for details.


Installation output

made4.Rcheck/00install.out

##############################################################################
##############################################################################
###
### Running command:
###
###   /home/biocbuild/bbs-3.20-bioc/R/bin/R CMD INSTALL made4
###
##############################################################################
##############################################################################


* installing to library ‘/home/biocbuild/bbs-3.20-bioc/R/site-library’
* installing *source* package ‘made4’ ...
** using staged installation
** R
** data
*** moving datasets to lazyload DB
** inst
** byte-compile and prepare package for lazy loading
** help
*** installing help indices
** building package indices
** installing vignettes
** testing if installed package can be loaded from temporary location
** testing if installed package can be loaded from final location
** testing if installed package keeps a record of temporary installation path
* DONE (made4)

Tests output


Example timings

made4.Rcheck/made4-Ex.timings

nameusersystemelapsed
NCI600.0060.0000.006
bet.coinertia0.0080.0000.008
between.graph0.2680.0120.279
bga0.6910.0240.715
bga.jackknife1.1150.0561.171
bga.suppl0.2820.0040.287
cia0.1470.0040.150
commonMap0.0230.0000.024
comparelists0.0000.0000.001
do3d0.2720.0040.276
genes1d0.0660.0000.066
getcol0.0270.0000.027
graph1D0.0540.0040.059
heatplot1.4030.0161.419
html3D0.1490.0000.149
isDataFrame0.0130.0000.013
khan0.0050.0000.006
ord0.1760.0080.184
overview0.1130.0040.116
plotarrays0.1860.0000.190
plotgenes0.0940.0000.094
prettyDend0.0790.0040.083
randomiser0.0020.0000.002
s.var0.1830.0000.182
sumstats0.1540.0000.154
suppl0.3120.0000.313
topgenes0.0550.0040.059