Back to Multiple platform build/check report for BioC 3.14
ABCDEFGHIJ[K]LMNOPQRSTUVWXYZ

This page was generated on 2021-06-22 12:06:00 -0400 (Tue, 22 Jun 2021).

INSTALL results for keggorthology on riesling1

To the developers/maintainers of the keggorthology package:
- Please allow up to 24 hours (and sometimes 48 hours) for your latest push to git@git.bioconductor.org:packages/keggorthology.git to
reflect on this report. See How and When does the builder pull? When will my changes propagate? here for more information.
- Make sure to use the following settings in order to reproduce any error or warning you see on this page.

raw results

Package 942/1993HostnameOS / ArchINSTALLBUILDCHECKBUILD BIN
keggorthology 2.45.0  (landing page)
VJ Carey
Snapshot Date: 2021-06-21 14:50:06 -0400 (Mon, 21 Jun 2021)
URL: https://git.bioconductor.org/packages/keggorthology
Branch: master
Last Commit: c0972aa
Last Changed Date: 2021-05-19 11:39:23 -0400 (Wed, 19 May 2021)
nebbiolo2Linux (Ubuntu 20.04.2 LTS) / x86_64  OK    OK    OK  UNNEEDED, same version is already published
riesling1Windows Server 2019 Standard / x64  OK    OK    OK    OK  UNNEEDED, same version is already published
merida1macOS 10.14.6 Mojave / x86_64  OK    OK    OK    OK  UNNEEDED, same version is already published

Summary

Package: keggorthology
Version: 2.45.0
Command: C:\cygwin\bin\curl.exe -O http://155.52.207.166/BBS/3.14/bioc/src/contrib/keggorthology_2.45.0.tar.gz && rm -rf keggorthology.buildbin-libdir && mkdir keggorthology.buildbin-libdir && D:\biocbuild\bbs-3.14-bioc\R\bin\R.exe CMD INSTALL --merge-multiarch --build --library=keggorthology.buildbin-libdir keggorthology_2.45.0.tar.gz && D:\biocbuild\bbs-3.14-bioc\R\bin\R.exe CMD INSTALL keggorthology_2.45.0.zip && rm keggorthology_2.45.0.tar.gz keggorthology_2.45.0.zip
StartedAt: 2021-06-21 16:59:10 -0400 (Mon, 21 Jun 2021)
EndedAt: 2021-06-21 17:01:55 -0400 (Mon, 21 Jun 2021)
EllapsedTime: 164.7 seconds
RetCode: 0
Status:   OK  

Command output

##############################################################################
##############################################################################
###
### Running command:
###
###   C:\cygwin\bin\curl.exe -O http://155.52.207.166/BBS/3.14/bioc/src/contrib/keggorthology_2.45.0.tar.gz && rm -rf keggorthology.buildbin-libdir && mkdir keggorthology.buildbin-libdir && D:\biocbuild\bbs-3.14-bioc\R\bin\R.exe CMD INSTALL --merge-multiarch --build --library=keggorthology.buildbin-libdir keggorthology_2.45.0.tar.gz && D:\biocbuild\bbs-3.14-bioc\R\bin\R.exe CMD INSTALL keggorthology_2.45.0.zip && rm keggorthology_2.45.0.tar.gz keggorthology_2.45.0.zip
###
##############################################################################
##############################################################################


  % Total    % Received % Xferd  Average Speed   Time    Time     Time  Current
                                 Dload  Upload   Total   Spent    Left  Speed

  0     0    0     0    0     0      0      0 --:--:-- --:--:-- --:--:--     0
100  591k  100  591k    0     0  2713k      0 --:--:-- --:--:-- --:--:-- 2713k

install for i386

* installing *source* package 'keggorthology' ...
** using staged installation
** R
** data
** inst
** byte-compile and prepare package for lazy loading
** help
*** installing help indices
  converting help for package 'keggorthology'
    finding HTML links ... done
    getKOprobes                             html  
    indRender                               html  
    keggDF2graph                            html  
** building package indices
** installing vignettes
** testing if installed package can be loaded from temporary location
** testing if installed package can be loaded from final location
** testing if installed package keeps a record of temporary installation path

install for x64

* installing *source* package 'keggorthology' ...
** testing if installed package can be loaded
* MD5 sums
packaged installation of 'keggorthology' as keggorthology_2.45.0.zip
* DONE (keggorthology)
* installing to library 'D:/biocbuild/bbs-3.14-bioc/R/library'
package 'keggorthology' successfully unpacked and MD5 sums checked