Back to Multiple platform build/check report for BioC 3.14
ABCDEFGHIJ[K]LMNOPQRSTUVWXYZ

This page was generated on 2021-07-31 12:06:42 -0400 (Sat, 31 Jul 2021).

BUILD results for keggorthology on merida1

To the developers/maintainers of the keggorthology package:
- Please allow up to 24 hours (and sometimes 48 hours) for your latest push to git@git.bioconductor.org:packages/keggorthology.git to
reflect on this report. See How and When does the builder pull? When will my changes propagate? here for more information.
- Make sure to use the following settings in order to reproduce any error or warning you see on this page.

raw results

Package 953/2015HostnameOS / ArchINSTALLBUILDCHECKBUILD BIN
keggorthology 2.45.0  (landing page)
VJ Carey
Snapshot Date: 2021-07-30 14:50:06 -0400 (Fri, 30 Jul 2021)
URL: https://git.bioconductor.org/packages/keggorthology
Branch: master
Last Commit: c0972aa
Last Changed Date: 2021-05-19 11:39:23 -0400 (Wed, 19 May 2021)
nebbiolo2Linux (Ubuntu 20.04.2 LTS) / x86_64  OK    OK    OK  UNNEEDED, same version is already published
riesling1Windows Server 2019 Standard / x64  OK    OK    OK    OK  UNNEEDED, same version is already published
merida1macOS 10.14.6 Mojave / x86_64  OK    OK    OK    OK  UNNEEDED, same version is already published

Summary

Package: keggorthology
Version: 2.45.0
Command: /Library/Frameworks/R.framework/Resources/bin/R CMD build --keep-empty-dirs --no-resave-data keggorthology
StartedAt: 2021-07-30 20:18:44 -0400 (Fri, 30 Jul 2021)
EndedAt: 2021-07-30 20:19:14 -0400 (Fri, 30 Jul 2021)
EllapsedTime: 30.0 seconds
RetCode: 0
Status:   OK  
PackageFile: keggorthology_2.45.0.tar.gz
PackageFileSize: 683.7 KiB

Command output

##############################################################################
##############################################################################
###
### Running command:
###
###   /Library/Frameworks/R.framework/Resources/bin/R CMD build --keep-empty-dirs --no-resave-data keggorthology
###
##############################################################################
##############################################################################


* checking for file ‘keggorthology/DESCRIPTION’ ... OK
* preparing ‘keggorthology’:
* checking DESCRIPTION meta-information ... OK
* installing the package to build vignettes
* creating vignettes ... OK
* checking for LF line-endings in source and make files and shell scripts
* checking for empty or unneeded directories
* looking to see if a ‘data/datalist’ file should be added
* building ‘keggorthology_2.45.0.tar.gz’