Back to Multiple platform build/check report for BioC 3.20:   simplified   long
ABCDEFGH[I]JKLMNOPQRSTUVWXYZ

This page was generated on 2024-06-15 12:33 -0400 (Sat, 15 Jun 2024).

HostnameOSArch (*)R versionInstalled pkgs
nebbiolo2Linux (Ubuntu 22.04.3 LTS)x86_644.4.0 RC (2024-04-16 r86468) -- "Puppy Cup" 4685
lconwaymacOS 12.7.1 Montereyx86_644.4.1 RC (2024-06-06 r86719) -- "Race for Your Life" 4400
kjohnson3macOS 13.6.5 Venturaarm644.4.1 RC (2024-06-06 r86719) -- "Race for Your Life" 4349
Click on any hostname to see more info about the system (e.g. compilers)      (*) as reported by 'uname -p', except on Windows and Mac OS X

Package 1021/2242HostnameOS / ArchINSTALLBUILDCHECKBUILD BIN
interactiveDisplayBase 1.43.0  (landing page)
Bioconductor Package Maintainer
Snapshot Date: 2024-06-14 14:00 -0400 (Fri, 14 Jun 2024)
git_url: https://git.bioconductor.org/packages/interactiveDisplayBase
git_branch: devel
git_last_commit: 4c333d5
git_last_commit_date: 2024-04-30 10:37:41 -0400 (Tue, 30 Apr 2024)
nebbiolo2Linux (Ubuntu 22.04.3 LTS) / x86_64  OK    OK    OK  UNNEEDED, same version is already published
lconwaymacOS 12.7.1 Monterey / x86_64  OK    OK    OK    OK  UNNEEDED, same version is already published
kjohnson3macOS 13.6.5 Ventura / arm64  OK    OK    OK    OK  UNNEEDED, same version is already published


BUILD results for interactiveDisplayBase on nebbiolo2

To the developers/maintainers of the interactiveDisplayBase package:
- Allow up to 24 hours (and sometimes 48 hours) for your latest push to git@git.bioconductor.org:packages/interactiveDisplayBase.git to reflect on this report. See Troubleshooting Build Report for more information.
- Use the following Renviron settings to reproduce errors and warnings.
- If 'R CMD check' started to fail recently on the Linux builder(s) over a missing dependency, add the missing dependency to 'Suggests:' in your DESCRIPTION file. See Renviron.bioc for more information.

raw results


Summary

Package: interactiveDisplayBase
Version: 1.43.0
Command: /home/biocbuild/bbs-3.20-bioc/R/bin/R CMD build --keep-empty-dirs --no-resave-data --md5 interactiveDisplayBase
StartedAt: 2024-06-14 17:52:35 -0400 (Fri, 14 Jun 2024)
EndedAt: 2024-06-14 17:52:40 -0400 (Fri, 14 Jun 2024)
EllapsedTime: 5.0 seconds
RetCode: 0
Status:   OK  
PackageFile: interactiveDisplayBase_1.43.0.tar.gz
PackageFileSize: 8.088 KiB

Command output

##############################################################################
##############################################################################
###
### Running command:
###
###   /home/biocbuild/bbs-3.20-bioc/R/bin/R CMD build --keep-empty-dirs --no-resave-data --md5 interactiveDisplayBase
###
##############################################################################
##############################################################################


* checking for file ‘interactiveDisplayBase/DESCRIPTION’ ... OK
* preparing ‘interactiveDisplayBase’:
* checking DESCRIPTION meta-information ... OK
* installing the package to build vignettes
* creating vignettes ... OK
* checking for LF line-endings in source and make files and shell scripts
* checking for empty or unneeded directories
* adding MD5 file
* building ‘interactiveDisplayBase_1.43.0.tar.gz’