Back to Multiple platform build/check report for BioC 3.20:   simplified   long
ABCDEFGH[I]JKLMNOPQRSTUVWXYZ

This page was generated on 2024-06-20 12:14 -0400 (Thu, 20 Jun 2024).

HostnameOSArch (*)R versionInstalled pkgs
nebbiolo2Linux (Ubuntu 22.04.3 LTS)x86_644.4.0 RC (2024-04-16 r86468) -- "Puppy Cup" 4687
lconwaymacOS 12.7.1 Montereyx86_644.4.1 RC (2024-06-06 r86719) -- "Race for Your Life" 4402
Click on any hostname to see more info about the system (e.g. compilers)      (*) as reported by 'uname -p', except on Windows and Mac OS X

Package 1020/2242HostnameOS / ArchINSTALLBUILDCHECKBUILD BIN
interactiveDisplay 1.43.0  (landing page)
Bioconductor Package Maintainer
Snapshot Date: 2024-06-19 14:00 -0400 (Wed, 19 Jun 2024)
git_url: https://git.bioconductor.org/packages/interactiveDisplay
git_branch: devel
git_last_commit: 21b31e0
git_last_commit_date: 2024-04-30 10:34:12 -0400 (Tue, 30 Apr 2024)
nebbiolo2Linux (Ubuntu 22.04.3 LTS) / x86_64  OK    OK    OK  UNNEEDED, same version is already published
lconwaymacOS 12.7.1 Monterey / x86_64  OK    OK    OK    OK  UNNEEDED, same version is already published


INSTALL results for interactiveDisplay on nebbiolo2

To the developers/maintainers of the interactiveDisplay package:
- Allow up to 24 hours (and sometimes 48 hours) for your latest push to git@git.bioconductor.org:packages/interactiveDisplay.git to reflect on this report. See Troubleshooting Build Report for more information.
- Use the following Renviron settings to reproduce errors and warnings.
- If 'R CMD check' started to fail recently on the Linux builder(s) over a missing dependency, add the missing dependency to 'Suggests:' in your DESCRIPTION file. See Renviron.bioc for more information.

raw results


Summary

Package: interactiveDisplay
Version: 1.43.0
Command: /home/biocbuild/bbs-3.20-bioc/R/bin/R CMD INSTALL interactiveDisplay
StartedAt: 2024-06-19 16:04:04 -0400 (Wed, 19 Jun 2024)
EndedAt: 2024-06-19 16:04:26 -0400 (Wed, 19 Jun 2024)
EllapsedTime: 22.1 seconds
RetCode: 0
Status:   OK  

Command output

##############################################################################
##############################################################################
###
### Running command:
###
###   /home/biocbuild/bbs-3.20-bioc/R/bin/R CMD INSTALL interactiveDisplay
###
##############################################################################
##############################################################################


* installing to library ‘/home/biocbuild/bbs-3.20-bioc/R/site-library’
* installing *source* package ‘interactiveDisplay’ ...
** using staged installation
** R
** data
** inst
** byte-compile and prepare package for lazy loading
in method for ‘display’ with signature ‘object="GRanges"’: no definition for class “GRanges”
in method for ‘display’ with signature ‘object="GRangesList"’: no definition for class “GRangesList”
in method for ‘display’ with signature ‘object="RangedSummarizedExperiment"’: no definition for class “RangedSummarizedExperiment”
in method for ‘display’ with signature ‘object="MRexperiment"’: no definition for class “MRexperiment”
** help
*** installing help indices
** building package indices
** installing vignettes
** testing if installed package can be loaded from temporary location
** testing if installed package can be loaded from final location
** testing if installed package keeps a record of temporary installation path
* DONE (interactiveDisplay)