Back to Multiple platform build/check report for BioC 3.14
ABCDEFGH[I]JKLMNOPQRSTUVWXYZ

This page was generated on 2021-10-23 14:06:30 -0400 (Sat, 23 Oct 2021).

INSTALL results for iasva on riesling1

To the developers/maintainers of the iasva package:
- Please allow up to 24 hours (and sometimes 48 hours) for your latest push to git@git.bioconductor.org:packages/iasva.git to
reflect on this report. See How and When does the builder pull? When will my changes propagate? here for more information.
- Make sure to use the following settings in order to reproduce any error or warning you see on this page.

raw results

Package 898/2083HostnameOS / ArchINSTALLBUILDCHECKBUILD BIN
iasva 1.11.0  (landing page)
Donghyung Lee , Anthony Cheng
Snapshot Date: 2021-10-22 14:50:11 -0400 (Fri, 22 Oct 2021)
git_url: https://git.bioconductor.org/packages/iasva
git_branch: master
git_last_commit: 13bedc4
git_last_commit_date: 2021-05-19 12:36:01 -0400 (Wed, 19 May 2021)
nebbiolo2Linux (Ubuntu 20.04.2 LTS) / x86_64  OK    OK    OK  UNNEEDED, same version is already published
riesling1Windows Server 2019 Standard / x64  OK    OK    OK    OK  UNNEEDED, same version is already published
merida1macOS 10.14.6 Mojave / x86_64  OK    OK    OK    OK  UNNEEDED, same version is already published

Summary

Package: iasva
Version: 1.11.0
Command: C:\cygwin\bin\curl.exe -O http://155.52.207.166/BBS/3.14/bioc/src/contrib/iasva_1.11.0.tar.gz && rm -rf iasva.buildbin-libdir && mkdir iasva.buildbin-libdir && D:\biocbuild\bbs-3.14-bioc\R\bin\R.exe CMD INSTALL --merge-multiarch --build --library=iasva.buildbin-libdir iasva_1.11.0.tar.gz && D:\biocbuild\bbs-3.14-bioc\R\bin\R.exe CMD INSTALL iasva_1.11.0.zip && rm iasva_1.11.0.tar.gz iasva_1.11.0.zip
StartedAt: 2021-10-22 17:44:10 -0400 (Fri, 22 Oct 2021)
EndedAt: 2021-10-22 17:47:14 -0400 (Fri, 22 Oct 2021)
EllapsedTime: 183.5 seconds
RetCode: 0
Status:   OK  

Command output

##############################################################################
##############################################################################
###
### Running command:
###
###   C:\cygwin\bin\curl.exe -O http://155.52.207.166/BBS/3.14/bioc/src/contrib/iasva_1.11.0.tar.gz && rm -rf iasva.buildbin-libdir && mkdir iasva.buildbin-libdir && D:\biocbuild\bbs-3.14-bioc\R\bin\R.exe CMD INSTALL --merge-multiarch --build --library=iasva.buildbin-libdir iasva_1.11.0.tar.gz && D:\biocbuild\bbs-3.14-bioc\R\bin\R.exe CMD INSTALL iasva_1.11.0.zip && rm iasva_1.11.0.tar.gz iasva_1.11.0.zip
###
##############################################################################
##############################################################################


  % Total    % Received % Xferd  Average Speed   Time    Time     Time  Current
                                 Dload  Upload   Total   Spent    Left  Speed

  0     0    0     0    0     0      0      0 --:--:-- --:--:-- --:--:--     0
 92  763k   92  705k    0     0  1243k      0 --:--:-- --:--:-- --:--:-- 1243k
100  763k  100  763k    0     0  1342k      0 --:--:-- --:--:-- --:--:-- 1342k

install for i386

* installing *source* package 'iasva' ...
** using staged installation
** R
** inst
** byte-compile and prepare package for lazy loading
** help
*** installing help indices
  converting help for package 'iasva'
    finding HTML links ... done
    fast_iasva                              html  
    find_markers                            html  
    iasva                                   html  
    study_R2                                html  
** building package indices
** installing vignettes
** testing if installed package can be loaded from temporary location
** testing if installed package can be loaded from final location
** testing if installed package keeps a record of temporary installation path

install for x64

* installing *source* package 'iasva' ...
** testing if installed package can be loaded
* MD5 sums
packaged installation of 'iasva' as iasva_1.11.0.zip
* DONE (iasva)
* installing to library 'D:/biocbuild/bbs-3.14-bioc/R/library'
package 'iasva' successfully unpacked and MD5 sums checked