Index of /checkResults/devel/bioc-LATEST/iasva/raw-results

[ICO]NameLast modifiedSizeDescription

[DIR]Parent Directory  -  
[   ]info.dcf23-Sep-2021 01:05 302  
[DIR]merida1/23-Sep-2021 01:05 -  
[DIR]nebbiolo2/23-Sep-2021 01:04 -  
[DIR]riesling1/23-Sep-2021 01:05 -