Index of /checkResults/devel/bioc-LATEST/iSEEhub/raw-results

[ICO]NameLast modifiedSizeDescription

[DIR]Parent Directory  -  
[   ]info.dcf27-May-2024 00:34 269  
[DIR]kunpeng2/16-May-2024 02:46 -  
[DIR]merida1/27-May-2024 00:35 -  
[DIR]nebbiolo2/27-May-2024 00:34 -  
[DIR]palomino4/23-May-2024 00:36 -