Back to Multiple platform build/check report for BioC 3.14
ABCDEFG[H]IJKLMNOPQRSTUVWXYZ

This page was generated on 2021-06-19 12:05:53 -0400 (Sat, 19 Jun 2021).

INSTALL results for hypergraph on riesling1

To the developers/maintainers of the hypergraph package:
- Please allow up to 24 hours (and sometimes 48 hours) for your latest push to git@git.bioconductor.org:packages/hypergraph.git to
reflect on this report. See How and When does the builder pull? When will my changes propagate? here for more information.
- Make sure to use the following settings in order to reproduce any error or warning you see on this page.

raw results

Package 860/1993HostnameOS / ArchINSTALLBUILDCHECKBUILD BIN
hypergraph 1.65.0  (landing page)
Bioconductor Package Maintainer
Snapshot Date: 2021-06-18 14:50:08 -0400 (Fri, 18 Jun 2021)
URL: https://git.bioconductor.org/packages/hypergraph
Branch: master
Last Commit: ad71314
Last Changed Date: 2021-05-19 11:35:52 -0400 (Wed, 19 May 2021)
nebbiolo2Linux (Ubuntu 20.04.2 LTS) / x86_64  OK    OK    OK  UNNEEDED, same version is already published
riesling1Windows Server 2019 Standard / x64  OK    OK    OK    OK  UNNEEDED, same version is already published
merida1macOS 10.14.6 Mojave / x86_64  OK    OK    OK    OK  UNNEEDED, same version is already published

Summary

Package: hypergraph
Version: 1.65.0
Command: C:\cygwin\bin\curl.exe -O http://155.52.207.166/BBS/3.14/bioc/src/contrib/hypergraph_1.65.0.tar.gz && rm -rf hypergraph.buildbin-libdir && mkdir hypergraph.buildbin-libdir && D:\biocbuild\bbs-3.14-bioc\R\bin\R.exe CMD INSTALL --merge-multiarch --build --library=hypergraph.buildbin-libdir hypergraph_1.65.0.tar.gz && D:\biocbuild\bbs-3.14-bioc\R\bin\R.exe CMD INSTALL hypergraph_1.65.0.zip && rm hypergraph_1.65.0.tar.gz hypergraph_1.65.0.zip
StartedAt: 2021-06-18 16:33:00 -0400 (Fri, 18 Jun 2021)
EndedAt: 2021-06-18 16:35:34 -0400 (Fri, 18 Jun 2021)
EllapsedTime: 153.7 seconds
RetCode: 0
Status:   OK  

Command output

##############################################################################
##############################################################################
###
### Running command:
###
###   C:\cygwin\bin\curl.exe -O http://155.52.207.166/BBS/3.14/bioc/src/contrib/hypergraph_1.65.0.tar.gz && rm -rf hypergraph.buildbin-libdir && mkdir hypergraph.buildbin-libdir && D:\biocbuild\bbs-3.14-bioc\R\bin\R.exe CMD INSTALL --merge-multiarch --build --library=hypergraph.buildbin-libdir hypergraph_1.65.0.tar.gz && D:\biocbuild\bbs-3.14-bioc\R\bin\R.exe CMD INSTALL hypergraph_1.65.0.zip && rm hypergraph_1.65.0.tar.gz hypergraph_1.65.0.zip
###
##############################################################################
##############################################################################


  % Total    % Received % Xferd  Average Speed   Time    Time     Time  Current
                                 Dload  Upload   Total   Spent    Left  Speed

  0     0    0     0    0     0      0      0 --:--:-- --:--:-- --:--:--     0
100  8332  100  8332    0     0   162k      0 --:--:-- --:--:-- --:--:--  162k

install for i386

* installing *source* package 'hypergraph' ...
** using staged installation
** R
** inst
** byte-compile and prepare package for lazy loading
** help
*** installing help indices
  converting help for package 'hypergraph'
    finding HTML links ... done
    DirectedHyperedge-class                 html  
    DirectedHyperedge                       html  
    Hyperedge-class                         html  
REDIRECT:topic	 label<- -> Hyperedge-class.html [ FAIL ]
REDIRECT:topic	 label<-,Hyperedge,character-method -> Hyperedge-class.html [ FAIL ]
    Hyperedge                               html  
    Hypergraph-class                        html  
    Hypergraph                              html  
    kCores                                  html  
    l2hel                                   html  
    vCover                                  html  
** building package indices
** testing if installed package can be loaded from temporary location
** testing if installed package can be loaded from final location
** testing if installed package keeps a record of temporary installation path

install for x64

* installing *source* package 'hypergraph' ...
** testing if installed package can be loaded
* MD5 sums
packaged installation of 'hypergraph' as hypergraph_1.65.0.zip
* DONE (hypergraph)
* installing to library 'D:/biocbuild/bbs-3.14-bioc/R/library'
package 'hypergraph' successfully unpacked and MD5 sums checked