Back to Multiple platform build/check report for BioC 3.14
ABCDEFG[H]IJKLMNOPQRSTUVWXYZ

This page was generated on 2021-09-21 12:06:06 -0400 (Tue, 21 Sep 2021).

INSTALL results for hyperdraw on riesling1

To the developers/maintainers of the hyperdraw package:
- Please allow up to 24 hours (and sometimes 48 hours) for your latest push to git@git.bioconductor.org:packages/hyperdraw.git to
reflect on this report. See How and When does the builder pull? When will my changes propagate? here for more information.
- Make sure to use the following settings in order to reproduce any error or warning you see on this page.

raw results

Package 875/2029HostnameOS / ArchINSTALLBUILDCHECKBUILD BIN
hyperdraw 1.45.0  (landing page)
Paul Murrell
Snapshot Date: 2021-09-20 14:50:09 -0400 (Mon, 20 Sep 2021)
git_url: https://git.bioconductor.org/packages/hyperdraw
git_branch: master
git_last_commit: 05e6099
git_last_commit_date: 2021-05-19 11:44:38 -0400 (Wed, 19 May 2021)
nebbiolo2Linux (Ubuntu 20.04.2 LTS) / x86_64  OK    OK    OK  UNNEEDED, same version is already published
riesling1Windows Server 2019 Standard / x64  OK    OK    OK    OK  UNNEEDED, same version is already published
merida1macOS 10.14.6 Mojave / x86_64  OK    OK    OK    OK  UNNEEDED, same version is already published

Summary

Package: hyperdraw
Version: 1.45.0
Command: C:\cygwin\bin\curl.exe -O http://155.52.207.166/BBS/3.14/bioc/src/contrib/hyperdraw_1.45.0.tar.gz && rm -rf hyperdraw.buildbin-libdir && mkdir hyperdraw.buildbin-libdir && D:\biocbuild\bbs-3.14-bioc\R\bin\R.exe CMD INSTALL --merge-multiarch --build --library=hyperdraw.buildbin-libdir hyperdraw_1.45.0.tar.gz && D:\biocbuild\bbs-3.14-bioc\R\bin\R.exe CMD INSTALL hyperdraw_1.45.0.zip && rm hyperdraw_1.45.0.tar.gz hyperdraw_1.45.0.zip
StartedAt: 2021-09-20 17:32:24 -0400 (Mon, 20 Sep 2021)
EndedAt: 2021-09-20 17:35:33 -0400 (Mon, 20 Sep 2021)
EllapsedTime: 189.1 seconds
RetCode: 0
Status:   OK  

Command output

##############################################################################
##############################################################################
###
### Running command:
###
###   C:\cygwin\bin\curl.exe -O http://155.52.207.166/BBS/3.14/bioc/src/contrib/hyperdraw_1.45.0.tar.gz && rm -rf hyperdraw.buildbin-libdir && mkdir hyperdraw.buildbin-libdir && D:\biocbuild\bbs-3.14-bioc\R\bin\R.exe CMD INSTALL --merge-multiarch --build --library=hyperdraw.buildbin-libdir hyperdraw_1.45.0.tar.gz && D:\biocbuild\bbs-3.14-bioc\R\bin\R.exe CMD INSTALL hyperdraw_1.45.0.zip && rm hyperdraw_1.45.0.tar.gz hyperdraw_1.45.0.zip
###
##############################################################################
##############################################################################


  % Total    % Received % Xferd  Average Speed   Time    Time     Time  Current
                                 Dload  Upload   Total   Spent    Left  Speed

  0     0    0     0    0     0      0      0 --:--:-- --:--:-- --:--:--     0
100 13396  100 13396    0     0   114k      0 --:--:-- --:--:-- --:--:--  114k

install for i386

* installing *source* package 'hyperdraw' ...
** using staged installation
** R
** inst
** byte-compile and prepare package for lazy loading
Creating a new generic function for 'graphLayout' in package 'hyperdraw'
** help
*** installing help indices
  converting help for package 'hyperdraw'
    finding HTML links ... done
    RagraphBPH-class                        html  
    finding level-2 HTML links ... done

    graphBPH-class                          html  
    graphBPH                                html  
    graphLayout                             html  
** building package indices
** installing vignettes
** testing if installed package can be loaded from temporary location
** testing if installed package can be loaded from final location
** testing if installed package keeps a record of temporary installation path

install for x64

* installing *source* package 'hyperdraw' ...
** testing if installed package can be loaded
* MD5 sums
packaged installation of 'hyperdraw' as hyperdraw_1.45.0.zip
* DONE (hyperdraw)
* installing to library 'D:/biocbuild/bbs-3.14-bioc/R/library'
package 'hyperdraw' successfully unpacked and MD5 sums checked