Back to Multiple platform build/check report for BioC 3.14
ABCDEFG[H]IJKLMNOPQRSTUVWXYZ

BUILD results for hyperdraw on riesling1

This page was generated on 2021-06-12 12:05:06 -0400 (Sat, 12 Jun 2021).

Package 859/1993HostnameOS / ArchINSTALLBUILDCHECKBUILD BIN
hyperdraw 1.45.0  (landing page)
Paul Murrell
Snapshot Date: 2021-06-11 14:50:09 -0400 (Fri, 11 Jun 2021)
URL: https://git.bioconductor.org/packages/hyperdraw
Branch: master
Last Commit: 05e6099
Last Changed Date: 2021-05-19 11:44:38 -0400 (Wed, 19 May 2021)
nebbiolo2Linux (Ubuntu 20.04.2 LTS) / x86_64  OK    OK    OK  UNNEEDED, same version is already published
riesling1Windows Server 2019 Standard / x64  OK    OK    OK    OK  NO, package depends on 'Rgraphviz' which is not available
merida1macOS 10.14.6 Mojave / x86_64  OK    OK    OK    OK  UNNEEDED, same version is already published
To the developers/maintainers of the hyperdraw package:
- Please allow up to 24 hours (and sometimes 48 hours) for your latest push to git@git.bioconductor.org:packages/hyperdraw.git to
reflect on this report. See How and When does the builder pull? When will my changes propagate? here for more information.
- Make sure to use the following settings in order to reproduce any error or warning you see on this page.

Summary

Package: hyperdraw
Version: 1.45.0
Command: chmod a+r hyperdraw -R && D:\biocbuild\bbs-3.14-bioc\R\bin\R.exe CMD build --keep-empty-dirs --no-resave-data hyperdraw
StartedAt: 2021-06-11 20:28:42 -0400 (Fri, 11 Jun 2021)
EndedAt: 2021-06-11 20:32:57 -0400 (Fri, 11 Jun 2021)
EllapsedTime: 254.7 seconds
RetCode: 0
Status:   OK   
PackageFile: hyperdraw_1.45.0.tar.gz
PackageFileSize: 140.8 KiB

Command output

##############################################################################
##############################################################################
###
### Running command:
###
###   chmod a+r hyperdraw -R && D:\biocbuild\bbs-3.14-bioc\R\bin\R.exe CMD build --keep-empty-dirs --no-resave-data hyperdraw
###
##############################################################################
##############################################################################


* checking for file 'hyperdraw/DESCRIPTION' ... OK
* preparing 'hyperdraw':
* checking DESCRIPTION meta-information ... OK
* installing the package to build vignettes
* creating vignettes ... OK
* checking for LF line-endings in source and make files and shell scripts
* checking for empty or unneeded directories
* building 'hyperdraw_1.45.0.tar.gz'