Back to Multiple platform build/check report for BioC 3.14
ABCDEFG[H]IJKLMNOPQRSTUVWXYZ

This page was generated on 2021-06-18 12:04:55 -0400 (Fri, 18 Jun 2021).

BUILD BIN results for hyperdraw on riesling1

To the developers/maintainers of the hyperdraw package:
- Please allow up to 24 hours (and sometimes 48 hours) for your latest push to git@git.bioconductor.org:packages/hyperdraw.git to
reflect on this report. See How and When does the builder pull? When will my changes propagate? here for more information.
- Make sure to use the following settings in order to reproduce any error or warning you see on this page.

raw results

Package 859/1993HostnameOS / ArchINSTALLBUILDCHECKBUILD BIN
hyperdraw 1.45.0  (landing page)
Paul Murrell
Snapshot Date: 2021-06-17 14:50:06 -0400 (Thu, 17 Jun 2021)
URL: https://git.bioconductor.org/packages/hyperdraw
Branch: master
Last Commit: 05e6099
Last Changed Date: 2021-05-19 11:44:38 -0400 (Wed, 19 May 2021)
nebbiolo2Linux (Ubuntu 20.04.2 LTS) / x86_64  OK    OK    OK  UNNEEDED, same version is already published
riesling1Windows Server 2019 Standard / x64  OK    OK    OK    OK  NO, package depends on 'Rgraphviz' which is not available
merida1macOS 10.14.6 Mojave / x86_64  OK    OK    OK    OK  UNNEEDED, same version is already published

Summary

Package: hyperdraw
Version: 1.45.0
Command: rm -rf hyperdraw.buildbin-libdir && mkdir hyperdraw.buildbin-libdir && D:\biocbuild\bbs-3.14-bioc\R\bin\R.exe CMD INSTALL --merge-multiarch --build --library=hyperdraw.buildbin-libdir hyperdraw_1.45.0.tar.gz
StartedAt: 2021-06-18 04:30:24 -0400 (Fri, 18 Jun 2021)
EndedAt: 2021-06-18 04:34:13 -0400 (Fri, 18 Jun 2021)
EllapsedTime: 229.5 seconds
RetCode: 0
Status:   OK  
PackageFile: hyperdraw_1.45.0.zip
PackageFileSize: 315.8 KiB

Command output

##############################################################################
##############################################################################
###
### Running command:
###
###   rm -rf hyperdraw.buildbin-libdir && mkdir hyperdraw.buildbin-libdir && D:\biocbuild\bbs-3.14-bioc\R\bin\R.exe CMD INSTALL --merge-multiarch --build --library=hyperdraw.buildbin-libdir hyperdraw_1.45.0.tar.gz
###
##############################################################################
##############################################################################



install for i386

* installing *source* package 'hyperdraw' ...
** using staged installation
** R
** inst
** byte-compile and prepare package for lazy loading
Creating a new generic function for 'graphLayout' in package 'hyperdraw'
** help
*** installing help indices
  converting help for package 'hyperdraw'
    finding HTML links ... done
    RagraphBPH-class                        html  
REDIRECT:topic	 edgeDataDefaults<-,RagraphBPH,character,ANY-method -> RagraphBPH-class.html [ FAIL ]
REDIRECT:topic	 edgeData<-,RagraphBPH,character,character,character,ANY-method -> RagraphBPH-class.html [ FAIL ]
REDIRECT:topic	 nodeDataDefaults<-,RagraphBPH,character,ANY-method -> RagraphBPH-class.html [ FAIL ]
REDIRECT:topic	 nodeData<-,RagraphBPH,character,character,ANY-method -> RagraphBPH-class.html [ FAIL ]
REDIRECT:topic	 graphDataDefaults<-,RagraphBPH,character,ANY-method -> RagraphBPH-class.html [ FAIL ]
REDIRECT:topic	 graphData<-,RagraphBPH,character,ANY-method -> RagraphBPH-class.html [ FAIL ]
    finding level-2 HTML links ... done

    graphBPH-class                          html  
    graphBPH                                html  
    graphLayout                             html  
** building package indices
** installing vignettes
** testing if installed package can be loaded from temporary location
** testing if installed package can be loaded from final location
** testing if installed package keeps a record of temporary installation path

install for x64

* installing *source* package 'hyperdraw' ...
** testing if installed package can be loaded
* MD5 sums
packaged installation of 'hyperdraw' as hyperdraw_1.45.0.zip
* DONE (hyperdraw)