Index of /checkResults/devel/bioc-LATEST/hyperdraw/raw-results

[ICO]NameLast modifiedSizeDescription

[DIR]Parent Directory  -  
[   ]info.dcf26-Nov-2021 04:05 273  
[DIR]merida1/26-Nov-2021 04:05 -  
[DIR]nebbiolo1/26-Nov-2021 04:04 -  
[DIR]riesling1/26-Nov-2021 04:05 -