Back to Multiple platform build/check report for BioC 3.14
ABCDEFG[H]IJKLMNOPQRSTUVWXYZ

This page was generated on 2021-10-23 14:07:02 -0400 (Sat, 23 Oct 2021).

BUILD BIN results for hyperdraw on merida1

To the developers/maintainers of the hyperdraw package:
- Please allow up to 24 hours (and sometimes 48 hours) for your latest push to git@git.bioconductor.org:packages/hyperdraw.git to
reflect on this report. See How and When does the builder pull? When will my changes propagate? here for more information.
- Make sure to use the following settings in order to reproduce any error or warning you see on this page.

raw results

Package 895/2083HostnameOS / ArchINSTALLBUILDCHECKBUILD BIN
hyperdraw 1.45.0  (landing page)
Paul Murrell
Snapshot Date: 2021-10-22 14:50:11 -0400 (Fri, 22 Oct 2021)
git_url: https://git.bioconductor.org/packages/hyperdraw
git_branch: master
git_last_commit: 05e6099
git_last_commit_date: 2021-05-19 11:44:38 -0400 (Wed, 19 May 2021)
nebbiolo2Linux (Ubuntu 20.04.2 LTS) / x86_64  OK    OK    OK  UNNEEDED, same version is already published
riesling1Windows Server 2019 Standard / x64  OK    OK    OK    OK  UNNEEDED, same version is already published
merida1macOS 10.14.6 Mojave / x86_64  OK    OK    OK    OK  UNNEEDED, same version is already published

Summary

Package: hyperdraw
Version: 1.45.0
Command: rm -rf hyperdraw.buildbin-libdir && mkdir hyperdraw.buildbin-libdir && /Users/biocbuild/BBS/utils/build-universal.sh hyperdraw_1.45.0.tar.gz /Library/Frameworks/R.framework/Resources/bin/R hyperdraw.buildbin-libdir
StartedAt: 2021-10-23 12:11:13 -0400 (Sat, 23 Oct 2021)
EndedAt: 2021-10-23 12:12:18 -0400 (Sat, 23 Oct 2021)
EllapsedTime: 65.2 seconds
RetCode: 0
Status:   OK  
PackageFile: hyperdraw_1.45.0.tgz
PackageFileSize: 322.7 KiB

Command output

##############################################################################
##############################################################################
###
### Running command:
###
###   rm -rf hyperdraw.buildbin-libdir && mkdir hyperdraw.buildbin-libdir && /Users/biocbuild/BBS/utils/build-universal.sh hyperdraw_1.45.0.tar.gz /Library/Frameworks/R.framework/Resources/bin/R hyperdraw.buildbin-libdir
###
##############################################################################
##############################################################################


>>>>>>> 
>>>>>>> INSTALLATION WITH 'R CMD INSTALL --preclean --no-multiarch --library=hyperdraw.buildbin-libdir hyperdraw_1.45.0.tar.gz'
>>>>>>> 

* installing *source* package ‘hyperdraw’ ...
** using staged installation
** R
** inst
** byte-compile and prepare package for lazy loading
Creating a new generic function for ‘graphLayout’ in package ‘hyperdraw’
** help
*** installing help indices
** building package indices
** installing vignettes
** testing if installed package can be loaded from temporary location
** testing if installed package can be loaded from final location
** testing if installed package keeps a record of temporary installation path
* DONE (hyperdraw)