Back to Multiple platform build/check report for BioC 3.14
ABCDEF[G]HIJKLMNOPQRSTUVWXYZ

This page was generated on 2021-08-03 12:05:44 -0400 (Tue, 03 Aug 2021).

INSTALL results for graphite on nebbiolo2

To the developers/maintainers of the graphite package:
- Please allow up to 24 hours (and sometimes 48 hours) for your latest push to git@git.bioconductor.org:packages/graphite.git to
reflect on this report. See How and When does the builder pull? When will my changes propagate? here for more information.
- Make sure to use the following settings in order to reproduce any error or warning you see on this page.

raw results

Package 796/2015HostnameOS / ArchINSTALLBUILDCHECKBUILD BIN
graphite 1.39.2  (landing page)
Gabriele Sales
Snapshot Date: 2021-08-02 14:50:09 -0400 (Mon, 02 Aug 2021)
URL: https://git.bioconductor.org/packages/graphite
Branch: master
Last Commit: 015cb14
Last Changed Date: 2021-07-15 16:04:52 -0400 (Thu, 15 Jul 2021)
nebbiolo2Linux (Ubuntu 20.04.2 LTS) / x86_64  OK    OK    OK  UNNEEDED, same version is already published
riesling1Windows Server 2019 Standard / x64  OK    OK    OK    OK  UNNEEDED, same version is already published
merida1macOS 10.14.6 Mojave / x86_64  OK    OK    OK    OK  UNNEEDED, same version is already published

Summary

Package: graphite
Version: 1.39.2
Command: /home/biocbuild/bbs-3.14-bioc/R/bin/R CMD INSTALL graphite
StartedAt: 2021-08-02 16:08:06 -0400 (Mon, 02 Aug 2021)
EndedAt: 2021-08-02 16:08:21 -0400 (Mon, 02 Aug 2021)
EllapsedTime: 14.5 seconds
RetCode: 0
Status:   OK  

Command output

##############################################################################
##############################################################################
###
### Running command:
###
###   /home/biocbuild/bbs-3.14-bioc/R/bin/R CMD INSTALL graphite
###
##############################################################################
##############################################################################


* installing to library ‘/home/biocbuild/bbs-3.14-bioc/R/library’
* installing *source* package ‘graphite’ ...
** using staged installation
** R
** inst
** byte-compile and prepare package for lazy loading
** help
*** installing help indices
** building package indices
** installing vignettes
** testing if installed package can be loaded from temporary location
** testing if installed package can be loaded from final location
** testing if installed package keeps a record of temporary installation path
* DONE (graphite)