Back to Multiple platform build/check report for BioC 3.14
ABCDEF[G]HIJKLMNOPQRSTUVWXYZ

This page was generated on 2021-07-23 12:04:27 -0400 (Fri, 23 Jul 2021).

BUILD results for graph on nebbiolo2

To the developers/maintainers of the graph package:
- Please allow up to 24 hours (and sometimes 48 hours) for your latest push to git@git.bioconductor.org:packages/graph.git to
reflect on this report. See How and When does the builder pull? When will my changes propagate? here for more information.
- Make sure to use the following settings in order to reproduce any error or warning you see on this page.

raw results

Package 790/2008HostnameOS / ArchINSTALLBUILDCHECKBUILD BIN
graph 1.71.2  (landing page)
Bioconductor Package Maintainer
Snapshot Date: 2021-07-22 14:50:06 -0400 (Thu, 22 Jul 2021)
URL: https://git.bioconductor.org/packages/graph
Branch: master
Last Commit: f73871a
Last Changed Date: 2021-05-27 12:04:35 -0400 (Thu, 27 May 2021)
nebbiolo2Linux (Ubuntu 20.04.2 LTS) / x86_64  OK    OK    OK  UNNEEDED, same version is already published
riesling1Windows Server 2019 Standard / x64  OK    OK    OK    OK  UNNEEDED, same version is already published
merida1macOS 10.14.6 Mojave / x86_64  OK    OK    OK    OK  UNNEEDED, same version is already published

Summary

Package: graph
Version: 1.71.2
Command: /home/biocbuild/bbs-3.14-bioc/R/bin/R CMD build --keep-empty-dirs --no-resave-data graph
StartedAt: 2021-07-22 17:25:04 -0400 (Thu, 22 Jul 2021)
EndedAt: 2021-07-22 17:25:33 -0400 (Thu, 22 Jul 2021)
EllapsedTime: 28.8 seconds
RetCode: 0
Status:   OK  
PackageFile: graph_1.71.2.tar.gz
PackageFileSize: 908 KiB

Command output

##############################################################################
##############################################################################
###
### Running command:
###
###   /home/biocbuild/bbs-3.14-bioc/R/bin/R CMD build --keep-empty-dirs --no-resave-data graph
###
##############################################################################
##############################################################################


* checking for file ‘graph/DESCRIPTION’ ... OK
* preparing ‘graph’:
* checking DESCRIPTION meta-information ... OK
* cleaning src
* installing the package to build vignettes
* creating vignettes ... OK
* cleaning src
* checking for LF line-endings in source and make files and shell scripts
* checking for empty or unneeded directories
* looking to see if a ‘data/datalist’ file should be added
* building ‘graph_1.71.2.tar.gz’