Back to Multiple platform build/check report for BioC 3.14
ABCDEF[G]HIJKLMNOPQRSTUVWXYZ

This page was generated on 2021-07-23 12:05:20 -0400 (Fri, 23 Jul 2021).

CHECK results for graph on merida1

To the developers/maintainers of the graph package:
- Please allow up to 24 hours (and sometimes 48 hours) for your latest push to git@git.bioconductor.org:packages/graph.git to
reflect on this report. See How and When does the builder pull? When will my changes propagate? here for more information.
- Make sure to use the following settings in order to reproduce any error or warning you see on this page.

raw results

Package 790/2008HostnameOS / ArchINSTALLBUILDCHECKBUILD BIN
graph 1.71.2  (landing page)
Bioconductor Package Maintainer
Snapshot Date: 2021-07-22 14:50:06 -0400 (Thu, 22 Jul 2021)
URL: https://git.bioconductor.org/packages/graph
Branch: master
Last Commit: f73871a
Last Changed Date: 2021-05-27 12:04:35 -0400 (Thu, 27 May 2021)
nebbiolo2Linux (Ubuntu 20.04.2 LTS) / x86_64  OK    OK    OK  UNNEEDED, same version is already published
riesling1Windows Server 2019 Standard / x64  OK    OK    OK    OK  UNNEEDED, same version is already published
merida1macOS 10.14.6 Mojave / x86_64  OK    OK    OK    OK  UNNEEDED, same version is already published

Summary

Package: graph
Version: 1.71.2
Command: /Library/Frameworks/R.framework/Resources/bin/R CMD check --install=check:graph.install-out.txt --library=/Library/Frameworks/R.framework/Resources/library --no-vignettes --timings graph_1.71.2.tar.gz
StartedAt: 2021-07-23 02:53:05 -0400 (Fri, 23 Jul 2021)
EndedAt: 2021-07-23 02:54:28 -0400 (Fri, 23 Jul 2021)
EllapsedTime: 83.0 seconds
RetCode: 0
Status:   OK  
CheckDir: graph.Rcheck
Warnings: 0

Command output

##############################################################################
##############################################################################
###
### Running command:
###
###   /Library/Frameworks/R.framework/Resources/bin/R CMD check --install=check:graph.install-out.txt --library=/Library/Frameworks/R.framework/Resources/library --no-vignettes --timings graph_1.71.2.tar.gz
###
##############################################################################
##############################################################################


* using log directory ‘/Users/biocbuild/bbs-3.14-bioc/meat/graph.Rcheck’
* using R version 4.1.0 RC (2021-05-16 r80304)
* using platform: x86_64-apple-darwin17.0 (64-bit)
* using session charset: UTF-8
* using option ‘--no-vignettes’
* checking for file ‘graph/DESCRIPTION’ ... OK
* this is package ‘graph’ version ‘1.71.2’
* checking package namespace information ... OK
* checking package dependencies ... OK
* checking if this is a source package ... OK
* checking if there is a namespace ... OK
* checking for hidden files and directories ... OK
* checking for portable file names ... OK
* checking for sufficient/correct file permissions ... OK
* checking whether package ‘graph’ can be installed ... OK
* checking installed package size ... OK
* checking package directory ... OK
* checking ‘build’ directory ... OK
* checking DESCRIPTION meta-information ... OK
* checking top-level files ... OK
* checking for left-over files ... OK
* checking index information ... OK
* checking package subdirectories ... OK
* checking R files for non-ASCII characters ... OK
* checking R files for syntax errors ... OK
* checking whether the package can be loaded ... OK
* checking whether the package can be loaded with stated dependencies ... OK
* checking whether the package can be unloaded cleanly ... OK
* checking whether the namespace can be loaded with stated dependencies ... OK
* checking whether the namespace can be unloaded cleanly ... OK
* checking dependencies in R code ... NOTE
'library' or 'require' call to ‘package’ in package code.
  Please use :: or requireNamespace() instead.
  See section 'Suggested packages' in the 'Writing R Extensions' manual.
* checking S3 generic/method consistency ... OK
* checking replacement functions ... OK
* checking foreign function calls ... OK
* checking R code for possible problems ... OK
* checking Rd files ... OK
* checking Rd metadata ... OK
* checking Rd cross-references ... OK
* checking for missing documentation entries ... OK
* checking for code/documentation mismatches ... OK
* checking Rd \usage sections ... OK
* checking Rd contents ... OK
* checking for unstated dependencies in examples ... OK
* checking contents of ‘data’ directory ... OK
* checking data for non-ASCII characters ... OK
* checking data for ASCII and uncompressed saves ... OK
* checking line endings in C/C++/Fortran sources/headers ... OK
* checking line endings in Makefiles ... OK
* checking compilation flags in Makevars ... OK
* checking for GNU extensions in Makefiles ... OK
* checking for portable use of $(BLAS_LIBS) and $(LAPACK_LIBS) ... OK
* checking use of PKG_*FLAGS in Makefiles ... OK
* checking include directives in Makefiles ... OK
* checking compiled code ... NOTE
Note: information on .o files is not available
* checking sizes of PDF files under ‘inst/doc’ ... OK
* checking files in ‘vignettes’ ... OK
* checking examples ... OK
* checking for unstated dependencies in ‘tests’ ... OK
* checking tests ...
  Running ‘graph_unit_tests.R’
 OK
* checking for unstated dependencies in vignettes ... OK
* checking package vignettes in ‘inst/doc’ ... OK
* checking running R code from vignettes ... SKIPPED
* checking re-building of vignette outputs ... SKIPPED
* checking PDF version of manual ... OK
* DONE

Status: 2 NOTEs
See
  ‘/Users/biocbuild/bbs-3.14-bioc/meat/graph.Rcheck/00check.log’
for details.



Installation output

graph.Rcheck/00install.out

##############################################################################
##############################################################################
###
### Running command:
###
###   /Library/Frameworks/R.framework/Resources/bin/R CMD INSTALL graph
###
##############################################################################
##############################################################################


* installing to library ‘/Library/Frameworks/R.framework/Versions/4.1/Resources/library’
* installing *source* package ‘graph’ ...
** using staged installation
** libs
clang -mmacosx-version-min=10.13 -I"/Library/Frameworks/R.framework/Resources/include" -DNDEBUG   -I/usr/local/include   -fPIC  -Wall -g -O2  -c graph.c -o graph.o
clang -mmacosx-version-min=10.13 -dynamiclib -Wl,-headerpad_max_install_names -undefined dynamic_lookup -single_module -multiply_defined suppress -L/Library/Frameworks/R.framework/Resources/lib -L/usr/local/lib -o graph.so graph.o -F/Library/Frameworks/R.framework/.. -framework R -Wl,-framework -Wl,CoreFoundation
mv graph.so BioC_graph.so
installing to /Library/Frameworks/R.framework/Versions/4.1/Resources/library/00LOCK-graph/00new/graph/libs
** R
** data
** inst
** byte-compile and prepare package for lazy loading
** help
*** installing help indices
** building package indices
** installing vignettes
** testing if installed package can be loaded from temporary location
** checking absolute paths in shared objects and dynamic libraries
** testing if installed package can be loaded from final location
** testing if installed package keeps a record of temporary installation path
* DONE (graph)

Tests output

graph.Rcheck/tests/graph_unit_tests.Rout


R version 4.1.0 RC (2021-05-16 r80304) -- "Camp Pontanezen"
Copyright (C) 2021 The R Foundation for Statistical Computing
Platform: x86_64-apple-darwin17.0 (64-bit)

R is free software and comes with ABSOLUTELY NO WARRANTY.
You are welcome to redistribute it under certain conditions.
Type 'license()' or 'licence()' for distribution details.

R is a collaborative project with many contributors.
Type 'contributors()' for more information and
'citation()' on how to cite R or R packages in publications.

Type 'demo()' for some demos, 'help()' for on-line help, or
'help.start()' for an HTML browser interface to help.
Type 'q()' to quit R.

> BiocGenerics:::testPackage("graph", pattern="_test.R")

Attaching package: 'BiocGenerics'

The following objects are masked from 'package:stats':

    IQR, mad, sd, var, xtabs

The following objects are masked from 'package:base':

    Filter, Find, Map, Position, Reduce, anyDuplicated, append,
    as.data.frame, basename, cbind, colnames, dirname, do.call,
    duplicated, eval, evalq, get, grep, grepl, intersect, is.unsorted,
    lapply, mapply, match, mget, order, paste, pmax, pmax.int, pmin,
    pmin.int, rank, rbind, rownames, sapply, setdiff, sort, table,
    tapply, union, unique, unsplit, which.max, which.min



RUNIT TEST PROTOCOL -- Fri Jul 23 02:54:18 2021 
*********************************************** 
Number of test functions: 208 
Number of errors: 0 
Number of failures: 0 

 
1 Test Suite : 
graph RUnit Tests - 208 test functions, 0 errors, 0 failures
Number of test functions: 208 
Number of errors: 0 
Number of failures: 0 
> 
> proc.time()
   user  system elapsed 
  6.340   0.175   6.504 

Example timings

graph.Rcheck/graph-Ex.timings

nameusersystemelapsed
DFS0.0510.0030.055
IMCA0.2050.0270.232
MAPKsig0.2000.0060.207
MultiGraph-class0.2040.0060.211
acc-methods0.0110.0000.012
addEdge0.0730.0010.074
addNode0.0110.0010.012
adj-methods0.0040.0000.004
adjacencyMatrix0.0040.0010.005
apoptosisGraph0.0220.0030.026
attrData-class0.0020.0010.003
aveNumEdges0.0050.0000.005
biocRepos0.0010.0010.003
boundary0.0060.0000.006
calcProb000
calcSumProb0.0050.0010.005
clearNode0.0160.0010.017
clusterGraph-class0.0280.0010.029
clusteringCoefficient-methods0.0510.0010.052
combineNodes0.1210.0010.121
distGraph-class0.0010.0000.002
duplicatedEdges000
edgeMatrix0.0130.0020.015
edgeSets0.0450.0030.049
edgeWeights0.0110.0010.012
fromGXL-methods0.2660.0090.277
graph-class0.0070.0020.010
graph2SparseM0.1400.0050.146
graphAM-class0.0120.0010.013
graphBAM-class0.0440.0010.045
graphExamples0.0070.0020.008
graphNEL-class0.0060.0010.007
inEdges0.0120.0000.012
leaves0.0130.0040.018
listEdges0.0110.0020.013
matrix2Graph0.0240.0010.025
mostEdges0.0070.0000.007
numNoEdges0.0040.0000.004
pancrCaIni0.2030.0060.209
randomEGraph0.0050.0000.005
randomGraph0.0030.0000.004
randomNodeGraph0.0030.0010.003
removeEdge0.0170.0000.018
removeNode0.0060.0000.006
renderInfo-class0.0070.0000.008
reverseEdgeDirections0.0040.0000.004
simpleEdge-class0.0020.0000.003
standardLabeling0.0560.0020.058
subGraph0.0010.0010.002
toDotR-methods0.0270.0040.030
ugraph0.0080.0010.009
validGraph0.0020.0000.002