Back to Multiple platform build/check report for BioC 3.14
ABCDEF[G]HIJKLMNOPQRSTUVWXYZ

This page was generated on 2021-10-22 12:04:27 -0400 (Fri, 22 Oct 2021).

BUILD BIN results for ggcyto on riesling1

To the developers/maintainers of the ggcyto package:
- Please allow up to 24 hours (and sometimes 48 hours) for your latest push to git@git.bioconductor.org:packages/ggcyto.git to
reflect on this report. See How and When does the builder pull? When will my changes propagate? here for more information.
- Make sure to use the following settings in order to reproduce any error or warning you see on this page.

raw results

Package 772/2075HostnameOS / ArchINSTALLBUILDCHECKBUILD BIN
ggcyto 1.21.0  (landing page)
Mike Jiang ,Jake Wagner
Snapshot Date: 2021-10-21 14:50:08 -0400 (Thu, 21 Oct 2021)
git_url: https://git.bioconductor.org/packages/ggcyto
git_branch: master
git_last_commit: 834a4c4
git_last_commit_date: 2021-05-19 12:17:22 -0400 (Wed, 19 May 2021)
nebbiolo2Linux (Ubuntu 20.04.2 LTS) / x86_64  OK    OK    OK  UNNEEDED, same version is already published
riesling1Windows Server 2019 Standard / x64  OK    OK    OK    OK  UNNEEDED, same version is already published
merida1macOS 10.14.6 Mojave / x86_64  OK    OK    OK    NA  

Summary

Package: ggcyto
Version: 1.21.0
Command: rm -rf ggcyto.buildbin-libdir && mkdir ggcyto.buildbin-libdir && D:\biocbuild\bbs-3.14-bioc\R\bin\R.exe CMD INSTALL --merge-multiarch --build --library=ggcyto.buildbin-libdir ggcyto_1.21.0.tar.gz
StartedAt: 2021-10-22 05:41:27 -0400 (Fri, 22 Oct 2021)
EndedAt: 2021-10-22 05:45:27 -0400 (Fri, 22 Oct 2021)
EllapsedTime: 239.7 seconds
RetCode: 0
Status:   OK  
PackageFile: ggcyto_1.21.0.zip
PackageFileSize: 2.519 MiB

Command output

##############################################################################
##############################################################################
###
### Running command:
###
###   rm -rf ggcyto.buildbin-libdir && mkdir ggcyto.buildbin-libdir && D:\biocbuild\bbs-3.14-bioc\R\bin\R.exe CMD INSTALL --merge-multiarch --build --library=ggcyto.buildbin-libdir ggcyto_1.21.0.tar.gz
###
##############################################################################
##############################################################################



install for i386

* installing *source* package 'ggcyto' ...
** using staged installation
** R
** inst
** byte-compile and prepare package for lazy loading
** help
*** installing help indices
  converting help for package 'ggcyto'
    finding HTML links ... done
    as.ggplot                               html  
    autoplot                                html  
    finding level-2 HTML links ... done

    axis_x_inverse_trans                    html  
    compute_stats                           html  
    flowCore_asinht_trans                   html  
    fortify.ellipsoidGate                   html  
    fortify.filterList                      html  
    fortify.flowSet                         html  
    fortify.polygonGate                     html  
    fortify.rectangleGate                   html  
    fortify_fs                              html  
    gate_null                               html  
    geom_gate                               html  
    geom_hvline                             html  
    geom_overlay                            html  
    geom_stats                              html  
    getFlowFrame                            html  
    ggcyto                                  html  
    ggcyto_add                              html  
    ggcyto_arrange                          html  
    ggcyto_par_default                      html  
    ggcyto_par_set                          html  
    is.ggcyto                               html  
    is.ggcyto_flowSet                       html  
    is.ggcyto_par                           html  
    labs_cyto                               html  
    marginalFilter                          html  
    merge.quad.gates                        html  
    print.ggcyto                            html  
    print.ggcyto_GatingLayout               html  
    replace_data                            html  
    scale_x_flowCore_fasinh                 html  
    scale_x_logicle                         html  
    scales_flowjo_biexp                     html  
REDIRECT:topic	 Previous alias or file overwritten by alias: D:/biocbuild/bbs-3.14-bioc/meat/ggcyto.buildbin-libdir/00LOCK-ggcyto/00new/ggcyto/help/scale_x_flowJo_biexp.html
REDIRECT:topic	 Previous alias or file overwritten by alias: D:/biocbuild/bbs-3.14-bioc/meat/ggcyto.buildbin-libdir/00LOCK-ggcyto/00new/ggcyto/help/scale_y_flowJo_biexp.html
    scales_flowjo_fasinh                    html  
REDIRECT:topic	 Previous alias or file overwritten by alias: D:/biocbuild/bbs-3.14-bioc/meat/ggcyto.buildbin-libdir/00LOCK-ggcyto/00new/ggcyto/help/scale_x_flowJo_fasinh.html
REDIRECT:topic	 Previous alias or file overwritten by alias: D:/biocbuild/bbs-3.14-bioc/meat/ggcyto.buildbin-libdir/00LOCK-ggcyto/00new/ggcyto/help/scale_y_flowJo_fasinh.html
    stat_position                           html  
    stats_null                              html  
    transform-gate                          html  
*** copying figures
** building package indices
** installing vignettes
** testing if installed package can be loaded from temporary location
** testing if installed package can be loaded from final location
** testing if installed package keeps a record of temporary installation path

install for x64

* installing *source* package 'ggcyto' ...
** testing if installed package can be loaded
* MD5 sums
packaged installation of 'ggcyto' as ggcyto_1.21.0.zip
* DONE (ggcyto)