Back to Multiple platform build/check report for BioC 3.14
ABCDEF[G]HIJKLMNOPQRSTUVWXYZ

This page was generated on 2021-10-22 12:04:59 -0400 (Fri, 22 Oct 2021).

BUILD results for ggcyto on merida1

To the developers/maintainers of the ggcyto package:
- Please allow up to 24 hours (and sometimes 48 hours) for your latest push to git@git.bioconductor.org:packages/ggcyto.git to
reflect on this report. See How and When does the builder pull? When will my changes propagate? here for more information.
- Make sure to use the following settings in order to reproduce any error or warning you see on this page.

raw results

Package 772/2075HostnameOS / ArchINSTALLBUILDCHECKBUILD BIN
ggcyto 1.21.0  (landing page)
Mike Jiang ,Jake Wagner
Snapshot Date: 2021-10-21 14:50:08 -0400 (Thu, 21 Oct 2021)
git_url: https://git.bioconductor.org/packages/ggcyto
git_branch: master
git_last_commit: 834a4c4
git_last_commit_date: 2021-05-19 12:17:22 -0400 (Wed, 19 May 2021)
nebbiolo2Linux (Ubuntu 20.04.2 LTS) / x86_64  OK    OK    OK  UNNEEDED, same version is already published
riesling1Windows Server 2019 Standard / x64  OK    OK    OK    OK  UNNEEDED, same version is already published
merida1macOS 10.14.6 Mojave / x86_64  OK    OK    OK    NA  

Summary

Package: ggcyto
Version: 1.21.0
Command: /Library/Frameworks/R.framework/Resources/bin/R CMD build --keep-empty-dirs --no-resave-data ggcyto
StartedAt: 2021-10-21 20:21:33 -0400 (Thu, 21 Oct 2021)
EndedAt: 2021-10-21 20:23:52 -0400 (Thu, 21 Oct 2021)
EllapsedTime: 138.6 seconds
RetCode: 0
Status:   OK  
PackageFile: ggcyto_1.21.0.tar.gz
PackageFileSize: 16.76 MiB

Command output

##############################################################################
##############################################################################
###
### Running command:
###
###   /Library/Frameworks/R.framework/Resources/bin/R CMD build --keep-empty-dirs --no-resave-data ggcyto
###
##############################################################################
##############################################################################


* checking for file ‘ggcyto/DESCRIPTION’ ... OK
* preparing ‘ggcyto’:
* checking DESCRIPTION meta-information ... OK
* installing the package to process help pages
* saving partial Rd database
* creating vignettes ... OK
* checking for LF line-endings in source and make files and shell scripts
* checking for empty or unneeded directories
* building ‘ggcyto_1.21.0.tar.gz’
Warning in utils::tar(filepath, pkgname, compression = compression, compression_level = 9L,  :
  storing paths of more than 100 bytes is not portable:
  ‘ggcyto/docs/articles/advanced/ggplot.flowSet.overlay_files/accessible-code-block-0.0.1/empty-anchor.js’